FILENAME: O4711036.NWS.1078944.tif
QUADRANGLE_NAME: ARROW PEAK
QUADRANT: NW
WEST_LONGITUDE: -110 37 30.00000
EAST_LONGITUDE: -110 33 45.00000
NORTH_LATITUDE: 47 30 0.00000
SOUTH_LATITUDE: 47 26 15.00000
PRODUCTION_DATE: 2000 6 4
RASTER_ORDER: LEFT_RIGHT/TOP_BOTTOM
BAND_ORGANIZATION: SINGLE FILE
BAND_CONTENT: BLACK&WHITE
BAND_CONTENT: UNDEFINED
BAND_CONTENT: UNDEFINED
BITS_PER_PIXEL: 8
SAMPLES_AND_LINES: 5407 7577
HORIZONTAL_DATUM: NAD83
HORIZONTAL_COORDINATE_SYSTEM: UTM
COORDINATE_ZONE: 12
HORIZONTAL_UNITS: METERS
HORIZONTAL_RESOLUTION: 1.00000
SECONDARY_HORIZONTAL_DATUM: NAD27
XY_ORIGIN: 527883.00000 5261123.00000
SECONDARY_XY_ORIGIN: 527941.99000 5260908.02000
NATION: US
NATION: "SCIENCE
STATE: MT
NW_QUAD_CORNER_XY: 528242.51900 5260797.87500
NE_QUAD_CORNER_XY: 532949.59800 5260822.48200
SE_QUAD_CORNERY_XY: 532988.68300 5253876.53000
SW_QUAD_CORNER_XY: 528276.02000 5253851.91800
SECONDARY_NW_QUAD_XY: 528243.39800 5260579.14200
SECONDARY_NE_QUAD_XY: 532950.62400 5260603.75000
SECONDARY_SE_QUAD_XY: 532989.70900 5253657.82000
SECONDARY_SW_QUAD_XY: 528276.90000 5253633.20800
RMSE_XY: 1.20000
IMAGE_SOURCE: BLACK AND WHITE FILM
SOURCE_IMAGE_ID: NAPP 9182 130
SOURCE_IMAGE_DATE: 1997 09 09
SOURCE_IMAGE_ID: NAPP 9183 009
SOURCE_IMAGE_DATE: 1997 09 09
SOURCE_IMAGE_ID: NAPP 9182 129
SOURCE_IMAGE_DATE: 1997 09 09
SOURCE_IMAGE_ID: NAPP 9182 131
SOURCE_IMAGE_DATE: 1997 09 09
SOURCE_DEM_DATE: 1978 00 00
AGENCY: WESTERN MAPPING CENTER (WMC)
PRODUCER: UNDEFINED
PRODUCTION_SYSTEM: GIS/MAGIC
COMPRESSION: UNDEFINED
STANDARD_VERSION: 1996 12
METADATA_DATE: 2000 06 07
DATA_FILE_SIZE: 40974246
BYTE_COUNT: 5407
