FILENAME: O4711037.NWS.1078948.tif
QUADRANGLE_NAME: PALISADE BUTTE
QUADRANT: NW
WEST_LONGITUDE: -110 30 0.00000
EAST_LONGITUDE: -110 26 15.00000
NORTH_LATITUDE: 47 30 0.00000
SOUTH_LATITUDE: 47 26 15.00000
PRODUCTION_DATE: 2000 6 4
RASTER_ORDER: LEFT_RIGHT/TOP_BOTTOM
BAND_ORGANIZATION: SINGLE FILE
BAND_CONTENT: BLACK&WHITE
BAND_CONTENT: UNDEFINED
BAND_CONTENT: UNDEFINED
BITS_PER_PIXEL: 8
SAMPLES_AND_LINES: 5418 7585
HORIZONTAL_DATUM: NAD83
HORIZONTAL_COORDINATE_SYSTEM: UTM
COORDINATE_ZONE: 12
HORIZONTAL_UNITS: METERS
HORIZONTAL_RESOLUTION: 1.00000
SECONDARY_HORIZONTAL_DATUM: NAD27
XY_ORIGIN: 537297.00000 5261184.00000
SECONDARY_XY_ORIGIN: 537355.84300 5260969.00400
NATION: US
NATION: "SCIENCE
STATE: MT
NW_QUAD_CORNER_XY: 537656.67400 5260850.87500
NE_QUAD_CORNER_XY: 542363.74600 5260883.05400
SE_QUAD_CORNERY_XY: 542413.99900 5253937.11300
SW_QUAD_CORNER_XY: 537701.34300 5253904.92800
SECONDARY_NW_QUAD_XY: 537657.84700 5260632.14400
SECONDARY_NE_QUAD_XY: 542365.06500 5260664.32400
SECONDARY_SE_QUAD_XY: 542415.31800 5253718.40500
SECONDARY_SW_QUAD_XY: 537702.51500 5253686.21900
RMSE_XY: 2.30000
IMAGE_SOURCE: BLACK AND WHITE FILM
SOURCE_IMAGE_ID: NAPP 11005 068
SOURCE_IMAGE_DATE: 1998 07 20
SOURCE_IMAGE_ID: NAPP 9167 069
SOURCE_IMAGE_DATE: 1996 08 26
SOURCE_IMAGE_ID: NAPP 11005 069
SOURCE_IMAGE_DATE: 1998 07 20
SOURCE_IMAGE_ID: NAPP 11005 067
SOURCE_IMAGE_DATE: 1998 07 20
SOURCE_IMAGE_ID: NAPP 9184 015
SOURCE_IMAGE_DATE: 1997 09 23
SOURCE_DEM_DATE: 1971 00 00
AGENCY: WESTERN MAPPING CENTER (WMC)
PRODUCER: UNDEFINED
PRODUCTION_SYSTEM: GIS/MAGIC
COMPRESSION: UNDEFINED
STANDARD_VERSION: 1996 12
METADATA_DATE: 2000 06 07
DATA_FILE_SIZE: 41100948
BYTE_COUNT: 5418
