FILENAME: O4711038.NES.1078951.tif
QUADRANGLE_NAME: JIGGS FLAT
QUADRANT: NE
WEST_LONGITUDE: -110 18 45.00000
EAST_LONGITUDE: -110 15 0.00000
NORTH_LATITUDE: 47 30 0.00000
SOUTH_LATITUDE: 47 26 15.00000
PRODUCTION_DATE: 2000 6 4
RASTER_ORDER: LEFT_RIGHT/TOP_BOTTOM
BAND_ORGANIZATION: SINGLE FILE
BAND_CONTENT: BLACK&WHITE
BAND_CONTENT: UNDEFINED
BAND_CONTENT: UNDEFINED
BITS_PER_PIXEL: 8
SAMPLES_AND_LINES: 5434 7596
HORIZONTAL_DATUM: NAD83
HORIZONTAL_COORDINATE_SYSTEM: UTM
COORDINATE_ZONE: 12
HORIZONTAL_UNITS: METERS
HORIZONTAL_RESOLUTION: 1.00000
SECONDARY_HORIZONTAL_DATUM: NAD27
XY_ORIGIN: 551419.00000 5261303.00000
SECONDARY_XY_ORIGIN: 551477.88700 5261087.86700
NATION: US
NATION: "SCIENCE
STATE: MT
NW_QUAD_CORNER_XY: 551777.87600 5260958.76900
NE_QUAD_CORNER_XY: 556484.93400 5261002.30600
SE_QUAD_CORNERY_XY: 556551.93900 5254056.38800
SW_QUAD_CORNER_XY: 551839.29700 5254012.84300
SECONDARY_NW_QUAD_XY: 551779.48900 5260740.04200
SECONDARY_NE_QUAD_XY: 556486.69300 5260783.58000
SECONDARY_SE_QUAD_XY: 556553.69800 5253837.68300
SECONDARY_SW_QUAD_XY: 551840.91000 5253794.13700
RMSE_XY: 3.10000
IMAGE_SOURCE: BLACK AND WHITE FILM
SOURCE_IMAGE_ID: NAPP 9177 059
SOURCE_IMAGE_DATE: 1997 09 04
SOURCE_IMAGE_ID: NAPP 9185 203
SOURCE_IMAGE_DATE: 1998 07 20
SOURCE_IMAGE_ID: NAPP 9185 202
SOURCE_IMAGE_DATE: 1998 07 20
SOURCE_IMAGE_ID: NAPP 9185 201
SOURCE_IMAGE_DATE: 1998 07 20
SOURCE_IMAGE_ID: NAPP 9185 198
SOURCE_IMAGE_DATE: 1998 07 20
SOURCE_DEM_DATE: 1993 00 00
AGENCY: WESTERN MAPPING CENTER (WMC)
PRODUCER: UNDEFINED
PRODUCTION_SYSTEM: GIS/MAGIC
COMPRESSION: UNDEFINED
STANDARD_VERSION: 1996 12
METADATA_DATE: 2000 06 07
DATA_FILE_SIZE: 41282098
BYTE_COUNT: 5434
