FILENAME: O4711039.SWS.1078958.tif
QUADRANGLE_NAME: POWNAL
QUADRANT: SW
WEST_LONGITUDE: -110 15 0.00000
EAST_LONGITUDE: -110 11 15.00000
NORTH_LATITUDE: 47 26 15.00000
SOUTH_LATITUDE: 47 22 30.00000
PRODUCTION_DATE: 2000 6 4
RASTER_ORDER: LEFT_RIGHT/TOP_BOTTOM
BAND_ORGANIZATION: SINGLE FILE
BAND_CONTENT: BLACK&WHITE
BAND_CONTENT: UNDEFINED
BAND_CONTENT: UNDEFINED
BITS_PER_PIXEL: 8
SAMPLES_AND_LINES: 5446 7600
HORIZONTAL_DATUM: NAD83
HORIZONTAL_COORDINATE_SYSTEM: UTM
COORDINATE_ZONE: 12
HORIZONTAL_UNITS: METERS
HORIZONTAL_RESOLUTION: 1.00000
SECONDARY_HORIZONTAL_DATUM: NAD27
XY_ORIGIN: 556193.00000 5254404.00000
SECONDARY_XY_ORIGIN: 556252.03700 5254188.94800
NATION: US
NATION: "SCIENCE
STATE: MT
NW_QUAD_CORNER_XY: 556551.93900 5254056.38800
NE_QUAD_CORNER_XY: 561264.57500 5254103.72000
SE_QUAD_CORNERY_XY: 561337.09100 5247157.88400
SW_QUAD_CORNER_XY: 556618.87600 5247110.54400
SECONDARY_NW_QUAD_XY: 556553.69800 5253837.68300
SECONDARY_NE_QUAD_XY: 561266.48100 5253885.01700
SECONDARY_SE_QUAD_XY: 561338.99600 5246939.20400
SECONDARY_SW_QUAD_XY: 556620.63500 5246891.86200
RMSE_XY: 1.40000
IMAGE_SOURCE: BLACK AND WHITE FILM
SOURCE_IMAGE_ID: NAPP 9179 017
SOURCE_IMAGE_DATE: 1997 09 04
SOURCE_IMAGE_ID: NAPP 9185 198
SOURCE_IMAGE_DATE: 1998 07 20
SOURCE_IMAGE_ID: NAPP 9172 145
SOURCE_IMAGE_DATE: 1997 08 23
SOURCE_IMAGE_ID: NAPP 9172 147
SOURCE_IMAGE_DATE: 1997 08 23
SOURCE_IMAGE_ID: NAPP 9179 018
SOURCE_IMAGE_DATE: 1997 09 04
SOURCE_DEM_DATE: 1971 00 00
AGENCY: WESTERN MAPPING CENTER (WMC)
PRODUCER: UNDEFINED
PRODUCTION_SYSTEM: GIS/MAGIC
COMPRESSION: UNDEFINED
STANDARD_VERSION: 1996 12
METADATA_DATE: 2000 06 07
DATA_FILE_SIZE: 41395046
BYTE_COUNT: 5446
