BEGIN_USGS_DOQ_HEADER *
QUADRANGLE_NAME "COFFEE CREEK" 3.75 or 7.5-min. name*
QUADRANT NW quadrant indicator if cell size = 3.75-minutes*
WEST_LONGITUDE -110 7 30.000 signed deg min sec SDDD MM SS.SSS*
EAST_LONGITUDE -110 3 45.000 signed deg min sec SDDD MM SS.SSS*
NORTH_LATITUDE 47 22 30.000 signed deg min sec SDDD MM SS.SSS*
SOUTH_LATITUDE 47 18 45.000 signed deg min sec SDDD MM SS.SSS*
PRODUCTION_DATE 2002 12 13 yyyy mm dd*
RASTER_ORDER LEFT_RIGHT/TOP_BOTTOM video display order*
BAND_ORGANIZATION "SINGLE FILE" single file or BSQ, or BIL or BIP*
BAND_CONTENT BLACK&WHITE black&white or red green blue*
BITS_PER_PIXEL 8 radiometric resolution*
SAMPLES_AND_LINES 5462 7608 number of columns and rows*
HORIZONTAL_DATUM NAD83 primary horizontal datum*
HORIZONTAL_COORDINATE_SYSTEM UTM *
COORDINATE_ZONE 12 coordinate system zone number*
HORIZONTAL_UNITS METERS coordinate system units*
HORIZONTAL_RESOLUTION 1.00 pixel horiz. ground sample distance*
SECONDARY_HORIZONTAL_DATUM NAD27 secondary horizontal datum*
XY_ORIGIN 565697.000 5247565.000 coord. of upper left pixel pri. datum*
SECONDARY_XY_ORIGIN 565756.000 5247351.000 coord upper left pixel sec datum*
NATION US nation code*
STATE MT state fip code*
NW_QUAD_CORNER_XY 566055.300 5247209.013 XY coords. of pri. NW quad corner*
NE_QUAD_CORNER_XY 570773.503 5247263.929 XY coords. of pri. NE quad corner*
SE_QUAD_CORNER_XY 570857.092 5240318.187 XY coords. of pri. SE quad corner*
SW_QUAD_CORNER_XY 566133.316 5240263.261 XY coords. of pri. SW quad corner*
SECONDARY_NW_QUAD_XY 566057.352 5246990.335 XY coords. - sec. NW quad cor.*
SECONDARY_NE_QUAD_XY 570775.701 5247045.252 XY coords. - sec. NE quad cor.*
SECONDARY_SE_QUAD_XY 570859.290 5240099.534 XY coords. - sec. SE quad cor.*
SECONDARY_SW_QUAD_XY 566135.367 5240044.606 XY coords. - sec. SW quad cor.*
RMSE_XY 1.20 doq horiz. accuracy*
IMAGE_SOURCE "BLACK AND WHITE FILM" b&w, cir, natural color, other*
SOURCE_IMAGE_ID "NAPP 9178 291" source image id*
SOURCE_IMAGE_DATE 1997 9 4 source image date as yyyy mm dd*
SOURCE_DEM_DATE 1971 00 00 source dem date yyyy mm dd*
AGENCY "ROCKY MOUNTAIN MAPPING CENTER (RMMC)" oversight agency*
PRODUCER "ROCKY MOUNTAIN MAPPING CENTER (RMMC)" *
PRODUCTION_SYSTEM "DV2.6.4 1/00 OV2.6 6/00" production system*
STANDARD_VERSION 1996 12 version of DOQ standard*
METADATA_DATE 2002 12 13 date created or changed, yyyy mm dd*
DATA_FILE_SIZE 41560358 data set size in bytes*
BYTE_COUNT 5462 header byte count*
