BEGIN_USGS_DOQ_HEADER *
QUADRANGLE_NAME "WINDHAM" 3.75 or 7.5-min. name*
QUADRANT SW quadrant indicator if cell size = 3.75-minutes*
WEST_LONGITUDE -110 15 0.000 signed deg min sec SDDD MM SS.SSS*
EAST_LONGITUDE -110 11 15.000 signed deg min sec SDDD MM SS.SSS*
NORTH_LATITUDE 47 3 45.000 signed deg min sec SDDD MM SS.SSS*
SOUTH_LATITUDE 47 0 0.000 signed deg min sec SDDD MM SS.SSS*
PRODUCTION_DATE 2002 12 12 yyyy mm dd*
RASTER_ORDER LEFT_RIGHT/TOP_BOTTOM video display order*
BAND_ORGANIZATION "SINGLE FILE" single file or BSQ, or BIL or BIP*
BAND_CONTENT BLACK&WHITE black&white or red green blue*
BITS_PER_PIXEL 8 radiometric resolution*
SAMPLES_AND_LINES 5479 7600 number of columns and rows*
HORIZONTAL_DATUM NAD83 primary horizontal datum*
HORIZONTAL_COORDINATE_SYSTEM UTM *
COORDINATE_ZONE 12 coordinate system zone number*
HORIZONTAL_UNITS METERS coordinate system units*
HORIZONTAL_RESOLUTION 1.00 pixel horiz. ground sample distance*
SECONDARY_HORIZONTAL_DATUM NAD27 secondary horizontal datum*
XY_ORIGIN 556594.000 5212731.000 coord. of upper left pixel pri. datum*
SECONDARY_XY_ORIGIN 556653.637 5212516.752 coord upper left pixel sec datum*
NATION US nation code*
STATE MT state fip code*
NW_QUAD_CORNER_XY 556952.542 5212382.446 XY coords. of pri. NW quad corner*
NE_QUAD_CORNER_XY 561698.566 5212429.826 XY coords. of pri. NE quad corner*
SE_QUAD_CORNER_XY 561770.639 5205484.438 XY coords. of pri. SE quad corner*
SW_QUAD_CORNER_XY 557019.071 5205437.051 XY coords. of pri. SW quad corner*
SECONDARY_NW_QUAD_XY 556954.300 5212163.892 XY coords. - sec. NW quad cor.*
SECONDARY_NE_QUAD_XY 561700.470 5212211.273 XY coords. - sec. NE quad cor.*
SECONDARY_SE_QUAD_XY 561772.543 5205265.913 XY coords. - sec. SE quad cor.*
SECONDARY_SW_QUAD_XY 557020.828 5205218.525 XY coords. - sec. SW quad cor.*
RMSE_XY 1.30 doq horiz. accuracy*
IMAGE_SOURCE "BLACK AND WHITE FILM" b&w, cir, natural color, other*
SOURCE_IMAGE_ID "NAPP 9172 158" source image id*
SOURCE_IMAGE_DATE 1997 8 23 source image date as yyyy mm dd*
SOURCE_DEM_DATE 1968 00 00 source dem date yyyy mm dd*
AGENCY "ROCKY MOUNTAIN MAPPING CENTER (RMMC)" oversight agency*
PRODUCER "ROCKY MOUNTAIN MAPPING CENTER (RMMC)" *
PRODUCTION_SYSTEM "DV2.6.4 1/00 OV2.6 6/00" production system*
STANDARD_VERSION 1996 12 version of DOQ standard*
METADATA_DATE 2002 12 12 date created or changed, yyyy mm dd*
DATA_FILE_SIZE 41645879 data set size in bytes*
BYTE_COUNT 5479 header byte count*
