FILENAME: O4710906.SWS.1080632.tif
QUADRANGLE_NAME: NOLAN RESERVOIR
QUADRANT: SW
WEST_LONGITUDE: -109 22 30.00000
EAST_LONGITUDE: -109 18 45.00000
NORTH_LATITUDE: 47 56 15.00000
SOUTH_LATITUDE: 47 52 30.00000
PRODUCTION_DATE: 2000 5 19
RASTER_ORDER: LEFT_RIGHT/TOP_BOTTOM
BAND_ORGANIZATION: SINGLE FILE
BAND_CONTENT: BLACK&WHITE
BAND_CONTENT: UNDEFINED
BAND_CONTENT: UNDEFINED
BITS_PER_PIXEL: 8
SAMPLES_AND_LINES: 5477 7652
HORIZONTAL_DATUM: NAD83
HORIZONTAL_COORDINATE_SYSTEM: UTM
COORDINATE_ZONE: 12
HORIZONTAL_UNITS: METERS
HORIZONTAL_RESOLUTION: 1.00000
SECONDARY_HORIZONTAL_DATUM: NAD27
XY_ORIGIN: 621006.00000 5311032.00000
SECONDARY_XY_ORIGIN: 621064.77600 5310816.07700
NATION: US
NATION: "SCIENCE
STATE: MT
NW_QUAD_CORNER_XY: 621362.38700 5310631.51700
NE_QUAD_CORNER_XY: 626030.03700 5310731.71700
SE_QUAD_CORNERY_XY: 626181.89100 5303785.51800
SW_QUAD_CORNER_XY: 621508.61500 5303685.29500
SECONDARY_NW_QUAD_XY: 621366.20200 5310412.69200
SECONDARY_NE_QUAD_XY: 626033.99800 5310512.89500
SECONDARY_SE_QUAD_XY: 626185.85200 5303566.71200
SECONDARY_SW_QUAD_XY: 621512.42900 5303466.48600
RMSE_XY: 2.10000
IMAGE_SOURCE: BLACK AND WHITE FILM
SOURCE_IMAGE_ID: NAPP 9156 073
SOURCE_IMAGE_DATE: 1997 08 29
SOURCE_IMAGE_ID: NAPP 9163 022
SOURCE_IMAGE_DATE: 1998 07 23
SOURCE_IMAGE_ID: NAPP 9156 072
SOURCE_IMAGE_DATE: 1997 08 29
SOURCE_DEM_DATE: 1985 00 00
AGENCY: WESTERN MAPPING CENTER (WMC)
PRODUCER: UNDEFINED
PRODUCTION_SYSTEM: GIS/MAGIC
COMPRESSION: UNDEFINED
STANDARD_VERSION: 1996 12
METADATA_DATE: 2000 06 14
DATA_FILE_SIZE: 41915481
BYTE_COUNT: 5477
