FILENAME: O4710907.SES.1080643.tif
QUADRANGLE_NAME: SANDPIPER RESERVOIR
QUADRANT: SE
WEST_LONGITUDE: -109 11 15.00000
EAST_LONGITUDE: -109 7 30.00000
NORTH_LATITUDE: 47 56 15.00000
SOUTH_LATITUDE: 47 52 30.00000
PRODUCTION_DATE: 2000 5 19
RASTER_ORDER: LEFT_RIGHT/TOP_BOTTOM
BAND_ORGANIZATION: SINGLE FILE
BAND_CONTENT: BLACK&WHITE
BAND_CONTENT: UNDEFINED
BAND_CONTENT: UNDEFINED
BITS_PER_PIXEL: 8
SAMPLES_AND_LINES: 5494 7664
HORIZONTAL_DATUM: NAD83
HORIZONTAL_COORDINATE_SYSTEM: UTM
COORDINATE_ZONE: 12
HORIZONTAL_UNITS: METERS
HORIZONTAL_RESOLUTION: 1.00000
SECONDARY_HORIZONTAL_DATUM: NAD27
XY_ORIGIN: 635009.00000 5311356.00000
SECONDARY_XY_ORIGIN: 635067.68000 5311140.08000
NATION: US
NATION: "SCIENCE
STATE: MT
NW_QUAD_CORNER_XY: 635365.29100 5310943.46800
NE_QUAD_CORNER_XY: 640032.89400 5311055.01800
SE_QUAD_CORNERY_XY: 640201.63000 5304108.88900
SW_QUAD_CORNER_XY: 635528.40000 5303997.31400
SECONDARY_NW_QUAD_XY: 635369.54500 5310724.65200
SECONDARY_NE_QUAD_XY: 640037.29500 5310836.20600
SECONDARY_SE_QUAD_XY: 640206.03100 5303890.09300
SECONDARY_SW_QUAD_XY: 635532.65400 5303778.51500
RMSE_XY: 1.30000
IMAGE_SOURCE: BLACK AND WHITE FILM
SOURCE_IMAGE_ID: NAPP 9130 036
SOURCE_IMAGE_DATE: 1996 07 27
SOURCE_IMAGE_ID: NAPP 9145 027
SOURCE_IMAGE_DATE: 1996 08 25
SOURCE_IMAGE_ID: NAPP 9130 037
SOURCE_IMAGE_DATE: 1996 07 27
SOURCE_IMAGE_ID: NAPP 9130 035
SOURCE_IMAGE_DATE: 1996 07 27
SOURCE_IMAGE_ID: NAPP 9129 207
SOURCE_IMAGE_DATE: 1996 07 27
SOURCE_DEM_DATE: 1978 00 00
AGENCY: WESTERN MAPPING CENTER (WMC)
PRODUCER: UNDEFINED
PRODUCTION_SYSTEM: GIS/MAGIC
COMPRESSION: UNDEFINED
STANDARD_VERSION: 1996 12
METADATA_DATE: 2000 06 14
DATA_FILE_SIZE: 42111510
BYTE_COUNT: 5494
