FILENAME: O4710907.NES.1080641.tif
QUADRANGLE_NAME: SANDPIPER RESERVOIR
QUADRANT: NE
WEST_LONGITUDE: -109 11 15.00000
EAST_LONGITUDE: -109 7 30.00000
NORTH_LATITUDE: 48 0 0.00000
SOUTH_LATITUDE: 47 56 15.00000
PRODUCTION_DATE: 2000 5 19
RASTER_ORDER: LEFT_RIGHT/TOP_BOTTOM
BAND_ORGANIZATION: SINGLE FILE
BAND_CONTENT: BLACK&WHITE
BAND_CONTENT: UNDEFINED
BAND_CONTENT: UNDEFINED
BITS_PER_PIXEL: 8
SAMPLES_AND_LINES: 5488 7664
HORIZONTAL_DATUM: NAD83
HORIZONTAL_COORDINATE_SYSTEM: UTM
COORDINATE_ZONE: 12
HORIZONTAL_UNITS: METERS
HORIZONTAL_RESOLUTION: 1.00000
SECONDARY_HORIZONTAL_DATUM: NAD27
XY_ORIGIN: 634846.00000 5318302.00000
SECONDARY_XY_ORIGIN: 634904.63500 5318086.00300
NATION: US
NATION: "SCIENCE
STATE: MT
NW_QUAD_CORNER_XY: 635202.02000 5317889.68900
NE_QUAD_CORNER_XY: 639863.98900 5318001.21400
SE_QUAD_CORNERY_XY: 640032.89400 5311055.01800
SW_QUAD_CORNER_XY: 635365.29100 5310943.46800
SECONDARY_NW_QUAD_XY: 635206.27500 5317670.85900
SECONDARY_NE_QUAD_XY: 639868.39100 5317782.38700
SECONDARY_SE_QUAD_XY: 640037.29500 5310836.20600
SECONDARY_SW_QUAD_XY: 635369.54500 5310724.65200
RMSE_XY: 1.00000
IMAGE_SOURCE: BLACK AND WHITE FILM
SOURCE_IMAGE_ID: NAPP 9130 034
SOURCE_IMAGE_DATE: 1996 07 27
SOURCE_IMAGE_ID: NAPP 9130 035
SOURCE_IMAGE_DATE: 1996 07 27
SOURCE_IMAGE_ID: NAPP 9130 033
SOURCE_IMAGE_DATE: 1996 07 27
SOURCE_DEM_DATE: 1978 00 00
AGENCY: WESTERN MAPPING CENTER (WMC)
PRODUCER: UNDEFINED
PRODUCTION_SYSTEM: GIS/MAGIC
COMPRESSION: UNDEFINED
STANDARD_VERSION: 1996 12
METADATA_DATE: 2000 06 14
DATA_FILE_SIZE: 42065520
BYTE_COUNT: 5488
