FILENAME: O4710909.SWS.1081060.tif
QUADRANGLE_NAME: DARK BUTTE
QUADRANT: SW
WEST_LONGITUDE: -110 0 0.00000
EAST_LONGITUDE: -109 56 15.00000
NORTH_LATITUDE: 47 48 45.00000
SOUTH_LATITUDE: 47 45 0.00000
PRODUCTION_DATE: 2000 6 1
RASTER_ORDER: LEFT_RIGHT/TOP_BOTTOM
BAND_ORGANIZATION: SINGLE FILE
BAND_CONTENT: BLACK&WHITE
BAND_CONTENT: UNDEFINED
BAND_CONTENT: UNDEFINED
BITS_PER_PIXEL: 8
SAMPLES_AND_LINES: 5434 7615
HORIZONTAL_DATUM: NAD83
HORIZONTAL_COORDINATE_SYSTEM: UTM
COORDINATE_ZONE: 12
HORIZONTAL_UNITS: METERS
HORIZONTAL_RESOLUTION: 1.00000
SECONDARY_HORIZONTAL_DATUM: NAD27
XY_ORIGIN: 574507.00000 5296308.00000
SECONDARY_XY_ORIGIN: 574565.69900 5296092.27700
NATION: US
NATION: "SCIENCE
STATE: MT
NW_QUAD_CORNER_XY: 574865.03200 5295944.82200
NE_QUAD_CORNER_XY: 579544.04600 5296007.22900
SE_QUAD_CORNERY_XY: 579639.45400 5289060.99300
SW_QUAD_CORNER_XY: 574954.82600 5288998.57400
SECONDARY_NW_QUAD_XY: 574867.37900 5295726.00500
SECONDARY_NE_QUAD_XY: 579546.54000 5295788.41400
SECONDARY_SE_QUAD_XY: 579641.94700 5288842.19600
SECONDARY_SW_QUAD_XY: 574957.17300 5288779.77400
RMSE_XY: 3.10000
IMAGE_SOURCE: BLACK AND WHITE FILM
SOURCE_IMAGE_ID: NAPP 9128 264
SOURCE_IMAGE_DATE: 1996 07 29
SOURCE_IMAGE_ID: NAPP 9178 196
SOURCE_IMAGE_DATE: 1997 09 04
SOURCE_IMAGE_ID: NAPP 9178 197
SOURCE_IMAGE_DATE: 1997 09 04
SOURCE_IMAGE_ID: NAPP 9160 022
SOURCE_IMAGE_DATE: 1997 09 23
SOURCE_IMAGE_ID: NAPP 9158 012
SOURCE_IMAGE_DATE: 1997 09 04
SOURCE_DEM_DATE: 1987 00 00
AGENCY: WESTERN MAPPING CENTER (WMC)
PRODUCER: UNDEFINED
PRODUCTION_SYSTEM: GIS/MAGIC
COMPRESSION: UNDEFINED
STANDARD_VERSION: 1996 12
METADATA_DATE: 2000 06 15
DATA_FILE_SIZE: 41385344
BYTE_COUNT: 5434
