FILENAME: O4710910.SWS.1081072.tif
QUADRANGLE_NAME: ILIAD
QUADRANT: SW
WEST_LONGITUDE: -109 52 30.00000
EAST_LONGITUDE: -109 48 45.00000
NORTH_LATITUDE: 47 48 45.00000
SOUTH_LATITUDE: 47 45 0.00000
PRODUCTION_DATE: 2000 6 1
RASTER_ORDER: LEFT_RIGHT/TOP_BOTTOM
BAND_ORGANIZATION: SINGLE FILE
BAND_CONTENT: BLACK&WHITE
BAND_CONTENT: UNDEFINED
BAND_CONTENT: UNDEFINED
BITS_PER_PIXEL: 8
SAMPLES_AND_LINES: 5445 7622
HORIZONTAL_DATUM: NAD83
HORIZONTAL_COORDINATE_SYSTEM: UTM
COORDINATE_ZONE: 12
HORIZONTAL_UNITS: METERS
HORIZONTAL_RESOLUTION: 1.00000
SECONDARY_HORIZONTAL_DATUM: NAD27
XY_ORIGIN: 583865.00000 5296444.00000
SECONDARY_XY_ORIGIN: 583923.78900 5296228.20600
NATION: US
NATION: "SCIENCE
STATE: MT
NW_QUAD_CORNER_XY: 584223.05100 5296073.41900
NE_QUAD_CORNER_XY: 588902.04700 5296143.39200
SE_QUAD_CORNERY_XY: 589008.68100 5289197.18500
SW_QUAD_CORNER_XY: 584324.07200 5289127.19700
SECONDARY_NW_QUAD_XY: 584225.69200 5295854.60600
SECONDARY_NE_QUAD_XY: 588904.83400 5295924.58100
SECONDARY_SE_QUAD_XY: 589011.46700 5288978.39200
SECONDARY_SW_QUAD_XY: 584326.71200 5288908.40200
RMSE_XY: 2.00000
IMAGE_SOURCE: BLACK AND WHITE FILM
SOURCE_IMAGE_ID: NAPP 9128 182
SOURCE_IMAGE_DATE: 1996 07 29
SOURCE_IMAGE_ID: NAPP 9128 264
SOURCE_IMAGE_DATE: 1996 07 29
SOURCE_IMAGE_ID: NAPP 9128 181
SOURCE_IMAGE_DATE: 1996 07 29
SOURCE_DEM_DATE: 1952 00 00
AGENCY: WESTERN MAPPING CENTER (WMC)
PRODUCER: UNDEFINED
PRODUCTION_SYSTEM: GIS/MAGIC
COMPRESSION: UNDEFINED
STANDARD_VERSION: 1996 12
METADATA_DATE: 2000 06 15
DATA_FILE_SIZE: 41507235
BYTE_COUNT: 5445
