FILENAME: O4710910.SES.1081071.tif
QUADRANGLE_NAME: ILIAD
QUADRANT: SE
WEST_LONGITUDE: -109 48 45.00000
EAST_LONGITUDE: -109 45 0.00000
NORTH_LATITUDE: 47 48 45.00000
SOUTH_LATITUDE: 47 45 0.00000
PRODUCTION_DATE: 2000 6 1
RASTER_ORDER: LEFT_RIGHT/TOP_BOTTOM
BAND_ORGANIZATION: SINGLE FILE
BAND_CONTENT: BLACK&WHITE
BAND_CONTENT: UNDEFINED
BAND_CONTENT: UNDEFINED
BITS_PER_PIXEL: 8
SAMPLES_AND_LINES: 5451 7626
HORIZONTAL_DATUM: NAD83
HORIZONTAL_COORDINATE_SYSTEM: UTM
COORDINATE_ZONE: 12
HORIZONTAL_UNITS: METERS
HORIZONTAL_RESOLUTION: 1.00000
SECONDARY_HORIZONTAL_DATUM: NAD27
XY_ORIGIN: 588544.00000 5296518.00000
SECONDARY_XY_ORIGIN: 588602.83400 5296302.17000
NATION: US
NATION: "SCIENCE
STATE: MT
NW_QUAD_CORNER_XY: 588902.04700 5296143.39200
NE_QUAD_CORNER_XY: 593581.03200 5296217.14800
SE_QUAD_CORNERY_XY: 593693.28000 5289270.95700
SW_QUAD_CORNER_XY: 589008.68100 5289197.18500
SECONDARY_NW_QUAD_XY: 588904.83400 5295924.58100
SECONDARY_NE_QUAD_XY: 593583.96500 5295998.33900
SECONDARY_SE_QUAD_XY: 593696.21300 5289052.16600
SECONDARY_SW_QUAD_XY: 589011.46700 5288978.39200
RMSE_XY: 0.90000
IMAGE_SOURCE: BLACK AND WHITE FILM
SOURCE_IMAGE_ID: NAPP 9128 139
SOURCE_IMAGE_DATE: 1996 07 29
SOURCE_IMAGE_ID: NAPP 9128 140
SOURCE_IMAGE_DATE: 1996 07 29
SOURCE_IMAGE_ID: NAPP 9160 098
SOURCE_IMAGE_DATE: 1997 09 23
SOURCE_DEM_DATE: 1952 00 00
AGENCY: WESTERN MAPPING CENTER (WMC)
PRODUCER: UNDEFINED
PRODUCTION_SYSTEM: GIS/MAGIC
COMPRESSION: UNDEFINED
STANDARD_VERSION: 1996 12
METADATA_DATE: 2000 06 15
DATA_FILE_SIZE: 41574777
BYTE_COUNT: 5451
