FILENAME: O4710911.SWS.1081084.tif
QUADRANGLE_NAME: PIGTAIL COULEE
QUADRANT: SW
WEST_LONGITUDE: -109 45 0.00000
EAST_LONGITUDE: -109 41 15.00000
NORTH_LATITUDE: 47 48 45.00000
SOUTH_LATITUDE: 47 45 0.00000
PRODUCTION_DATE: 2000 6 5
RASTER_ORDER: LEFT_RIGHT/TOP_BOTTOM
BAND_ORGANIZATION: SINGLE FILE
BAND_CONTENT: BLACK&WHITE
BAND_CONTENT: UNDEFINED
BAND_CONTENT: UNDEFINED
BITS_PER_PIXEL: 8
SAMPLES_AND_LINES: 5455 7629
HORIZONTAL_DATUM: NAD83
HORIZONTAL_COORDINATE_SYSTEM: UTM
COORDINATE_ZONE: 12
HORIZONTAL_UNITS: METERS
HORIZONTAL_RESOLUTION: 1.00000
SECONDARY_HORIZONTAL_DATUM: NAD27
XY_ORIGIN: 593224.00000 5296595.00000
SECONDARY_XY_ORIGIN: 593282.88200 5296379.13200
NATION: US
NATION: "SCIENCE
STATE: MT
NW_QUAD_CORNER_XY: 593581.03200 5296217.14800
NE_QUAD_CORNER_XY: 598260.00600 5296294.68800
SE_QUAD_CORNERY_XY: 598377.86800 5289348.51300
SW_QUAD_CORNER_XY: 593693.28000 5289270.95700
SECONDARY_NW_QUAD_XY: 593583.96500 5295998.33900
SECONDARY_NE_QUAD_XY: 598263.08600 5296075.88100
SECONDARY_SE_QUAD_XY: 598380.94800 5289129.72400
SECONDARY_SW_QUAD_XY: 593696.21300 5289052.16600
RMSE_XY: 1.50000
IMAGE_SOURCE: BLACK AND WHITE FILM
SOURCE_IMAGE_ID: NAPP 9160 099
SOURCE_IMAGE_DATE: 1997 09 23
SOURCE_IMAGE_ID: NAPP 9128 140
SOURCE_IMAGE_DATE: 1996 07 29
SOURCE_IMAGE_ID: NAPP 9160 100
SOURCE_IMAGE_DATE: 1997 09 23
SOURCE_IMAGE_ID: NAPP 9160 098
SOURCE_IMAGE_DATE: 1997 09 23
SOURCE_DEM_DATE: 1963 00 00
AGENCY: WESTERN MAPPING CENTER (WMC)
PRODUCER: UNDEFINED
PRODUCTION_SYSTEM: GIS/MAGIC
COMPRESSION: UNDEFINED
STANDARD_VERSION: 1996 12
METADATA_DATE: 2000 06 15
DATA_FILE_SIZE: 41621650
BYTE_COUNT: 5455
