FILENAME: O4710911.NWS.1081082.tif
QUADRANGLE_NAME: PIGTAIL COULEE
QUADRANT: NW
WEST_LONGITUDE: -109 45 0.00000
EAST_LONGITUDE: -109 41 15.00000
NORTH_LATITUDE: 47 52 30.00000
SOUTH_LATITUDE: 47 48 45.00000
PRODUCTION_DATE: 2000 6 5
RASTER_ORDER: LEFT_RIGHT/TOP_BOTTOM
BAND_ORGANIZATION: SINGLE FILE
BAND_CONTENT: BLACK&WHITE
BAND_CONTENT: UNDEFINED
BAND_CONTENT: UNDEFINED
BITS_PER_PIXEL: 8
SAMPLES_AND_LINES: 5451 7629
HORIZONTAL_DATUM: NAD83
HORIZONTAL_COORDINATE_SYSTEM: UTM
COORDINATE_ZONE: 12
HORIZONTAL_UNITS: METERS
HORIZONTAL_RESOLUTION: 1.00000
SECONDARY_HORIZONTAL_DATUM: NAD27
XY_ORIGIN: 593111.00000 5303541.00000
SECONDARY_XY_ORIGIN: 593169.89100 5303325.12900
NATION: US
NATION: "SCIENCE
STATE: MT
NW_QUAD_CORNER_XY: 593468.67200 5303163.41200
NE_QUAD_CORNER_XY: 598142.02600 5303240.93500
SE_QUAD_CORNERY_XY: 598260.00600 5296294.68800
SW_QUAD_CORNER_XY: 593581.03200 5296217.14800
SECONDARY_NW_QUAD_XY: 593471.60600 5302944.58600
SECONDARY_NE_QUAD_XY: 598145.10700 5303022.11200
SECONDARY_SE_QUAD_XY: 598263.08600 5296075.88100
SECONDARY_SW_QUAD_XY: 593583.96500 5295998.33900
RMSE_XY: 2.10000
IMAGE_SOURCE: BLACK AND WHITE FILM
SOURCE_IMAGE_ID: NAPP 9160 097
SOURCE_IMAGE_DATE: 1997 09 23
SOURCE_IMAGE_ID: NAPP 9160 096
SOURCE_IMAGE_DATE: 1997 09 23
SOURCE_DEM_DATE: 1963 00 00
AGENCY: WESTERN MAPPING CENTER (WMC)
PRODUCER: UNDEFINED
PRODUCTION_SYSTEM: GIS/MAGIC
COMPRESSION: UNDEFINED
STANDARD_VERSION: 1996 12
METADATA_DATE: 2000 06 15
DATA_FILE_SIZE: 41591130
BYTE_COUNT: 5451
