FILENAME: O4710914.SWS.1081181.tif
QUADRANGLE_NAME: LEROY
QUADRANT: SW
WEST_LONGITUDE: -109 22 30.00000
EAST_LONGITUDE: -109 18 45.00000
NORTH_LATITUDE: 47 48 45.00000
SOUTH_LATITUDE: 47 45 0.00000
PRODUCTION_DATE: 2000 6 8
RASTER_ORDER: LEFT_RIGHT/TOP_BOTTOM
BAND_ORGANIZATION: SINGLE FILE
BAND_CONTENT: BLACK&WHITE
BAND_CONTENT: UNDEFINED
BAND_CONTENT: UNDEFINED
BITS_PER_PIXEL: 8
SAMPLES_AND_LINES: 5489 7652
HORIZONTAL_DATUM: NAD83
HORIZONTAL_COORDINATE_SYSTEM: UTM
COORDINATE_ZONE: 12
HORIZONTAL_UNITS: METERS
HORIZONTAL_RESOLUTION: 1.00000
SECONDARY_HORIZONTAL_DATUM: NAD27
XY_ORIGIN: 621298.00000 5297140.00000
SECONDARY_XY_ORIGIN: 621356.83900 5296924.20400
NATION: US
NATION: "SCIENCE
STATE: MT
NW_QUAD_CORNER_XY: 621654.69600 5296739.14300
NE_QUAD_CORNER_XY: 626333.59400 5296839.38700
SE_QUAD_CORNERY_XY: 626485.14600 5289893.32600
SW_QUAD_CORNER_XY: 621800.63200 5289793.06200
SECONDARY_NW_QUAD_XY: 621658.51000 5296520.35100
SECONDARY_NE_QUAD_XY: 626337.55500 5296620.59800
SECONDARY_SE_QUAD_XY: 626489.10600 5289674.55500
SECONDARY_SW_QUAD_XY: 621804.44600 5289574.28700
RMSE_XY: 3.00000
IMAGE_SOURCE: BLACK AND WHITE FILM
SOURCE_IMAGE_ID: NAPP 9156 033
SOURCE_IMAGE_DATE: 1997 08 29
SOURCE_IMAGE_ID: NAPP 9163 016
SOURCE_IMAGE_DATE: 1998 07 23
SOURCE_IMAGE_ID: NAPP 9163 017
SOURCE_IMAGE_DATE: 1998 07 23
SOURCE_IMAGE_ID: NAPP 9163 018
SOURCE_IMAGE_DATE: 1998 07 23
SOURCE_IMAGE_ID: NAPP 9156 068
SOURCE_IMAGE_DATE: 1997 08 29
SOURCE_DEM_DATE: 1954 00 00
AGENCY: WESTERN MAPPING CENTER (WMC)
PRODUCER: UNDEFINED
PRODUCTION_SYSTEM: GIS/MAGIC
COMPRESSION: UNDEFINED
STANDARD_VERSION: 1996 12
METADATA_DATE: 2000 06 15
DATA_FILE_SIZE: 42007317
BYTE_COUNT: 5489
