FILENAME: O4710915.NWS.1082421.tif
QUADRANGLE_NAME: BIRD RAPIDS
QUADRANT: NW
WEST_LONGITUDE: -109 15 0.00000
EAST_LONGITUDE: -109 11 15.00000
NORTH_LATITUDE: 47 52 30.00000
SOUTH_LATITUDE: 47 48 45.00000
PRODUCTION_DATE: 2000 6 12
RASTER_ORDER: LEFT_RIGHT/TOP_BOTTOM
BAND_ORGANIZATION: SINGLE FILE
BAND_CONTENT: BLACK&WHITE
BAND_CONTENT: UNDEFINED
BAND_CONTENT: UNDEFINED
BITS_PER_PIXEL: 8
SAMPLES_AND_LINES: 5494 7660
HORIZONTAL_DATUM: NAD83
HORIZONTAL_COORDINATE_SYSTEM: UTM
COORDINATE_ZONE: 12
HORIZONTAL_UNITS: METERS
HORIZONTAL_RESOLUTION: 1.00000
SECONDARY_HORIZONTAL_DATUM: NAD27
XY_ORIGIN: 630499.00000 5304298.00000
SECONDARY_XY_ORIGIN: 630557.72400 5304082.18000
NATION: US
NATION: "SCIENCE
STATE: MT
NW_QUAD_CORNER_XY: 630855.15300 5303889.52400
NE_QUAD_CORNER_XY: 635528.40000 5303997.31400
SE_QUAD_CORNERY_XY: 635691.34600 5297051.22900
SW_QUAD_CORNER_XY: 631012.47800 5296943.41600
SECONDARY_NW_QUAD_XY: 630859.26100 5303670.72100
SECONDARY_NE_QUAD_XY: 635532.65400 5303778.51500
SECONDARY_SE_QUAD_XY: 635695.60000 5296832.44700
SECONDARY_SW_QUAD_XY: 631016.58500 5296724.63000
RMSE_XY: 1.60000
IMAGE_SOURCE: BLACK AND WHITE FILM
SOURCE_IMAGE_ID: NAPP 9130 038
SOURCE_IMAGE_DATE: 1996 07 27
SOURCE_IMAGE_ID: NAPP 9156 033
SOURCE_IMAGE_DATE: 1997 08 29
SOURCE_IMAGE_ID: NAPP 9156 032
SOURCE_IMAGE_DATE: 1997 08 29
SOURCE_IMAGE_ID: NAPP 9156 031
SOURCE_IMAGE_DATE: 1997 08 29
SOURCE_IMAGE_ID: NAPP 9145 025
SOURCE_IMAGE_DATE: 1996 08 25
SOURCE_DEM_DATE: 1987 00 00
AGENCY: WESTERN MAPPING CENTER (WMC)
PRODUCER: UNDEFINED
PRODUCTION_SYSTEM: GIS/MAGIC
COMPRESSION: UNDEFINED
STANDARD_VERSION: 1996 12
METADATA_DATE: 2000 06 15
DATA_FILE_SIZE: 42089534
BYTE_COUNT: 5494
