FILENAME: O4710916.NES.1083345.tif
QUADRANGLE_NAME: STURGEON ISLAND
QUADRANT: NE
WEST_LONGITUDE: -109 3 45.00000
EAST_LONGITUDE: -109 0 0.00000
NORTH_LATITUDE: 47 52 30.00000
SOUTH_LATITUDE: 47 48 45.00000
PRODUCTION_DATE: 2000 6 13
RASTER_ORDER: LEFT_RIGHT/TOP_BOTTOM
BAND_ORGANIZATION: SINGLE FILE
BAND_CONTENT: BLACK&WHITE
BAND_CONTENT: UNDEFINED
BAND_CONTENT: UNDEFINED
BITS_PER_PIXEL: 8
SAMPLES_AND_LINES: 5510 7671
HORIZONTAL_DATUM: NAD83
HORIZONTAL_COORDINATE_SYSTEM: UTM
COORDINATE_ZONE: 12
HORIZONTAL_UNITS: METERS
HORIZONTAL_RESOLUTION: 1.00000
SECONDARY_HORIZONTAL_DATUM: NAD27
XY_ORIGIN: 644519.00000 5304644.00000
SECONDARY_XY_ORIGIN: 644577.72500 5304428.11400
NATION: US
NATION: "SCIENCE
STATE: MT
NW_QUAD_CORNER_XY: 644874.84400 5304224.24800
NE_QUAD_CORNER_XY: 649548.04100 5304343.39200
SE_QUAD_CORNERY_XY: 649727.85500 5297397.38200
SW_QUAD_CORNER_XY: 645049.03500 5297278.21200
SECONDARY_NW_QUAD_XY: 644879.39200 5304005.45600
SECONDARY_NE_QUAD_XY: 649552.73500 5304124.60400
SECONDARY_SE_QUAD_XY: 649732.54900 5297178.61000
SECONDARY_SW_QUAD_XY: 645053.58300 5297059.43700
RMSE_XY: 3.00000
IMAGE_SOURCE: BLACK AND WHITE FILM
SOURCE_IMAGE_ID: NAPP 9147 204
SOURCE_IMAGE_DATE: 1996 08 24
SOURCE_IMAGE_ID: NAPP 9129 205
SOURCE_IMAGE_DATE: 1996 07 27
SOURCE_IMAGE_ID: NAPP 9129 207
SOURCE_IMAGE_DATE: 1996 07 27
SOURCE_IMAGE_ID: NAPP 9157 249
SOURCE_IMAGE_DATE: 1997 09 05
SOURCE_IMAGE_ID: NAPP 9157 247
SOURCE_IMAGE_DATE: 1997 09 05
SOURCE_DEM_DATE: 1987 00 00
AGENCY: WESTERN MAPPING CENTER (WMC)
PRODUCER: UNDEFINED
PRODUCTION_SYSTEM: GIS/MAGIC
COMPRESSION: UNDEFINED
STANDARD_VERSION: 1996 12
METADATA_DATE: 2000 06 15
DATA_FILE_SIZE: 42272720
BYTE_COUNT: 5510
