FILENAME: O4710917.SES.1081063.tif
QUADRANGLE_NAME: LAST CHANCE BENCH
QUADRANT: SE
WEST_LONGITUDE: -109 56 15.00000
EAST_LONGITUDE: -109 52 30.00000
NORTH_LATITUDE: 47 41 15.00000
SOUTH_LATITUDE: 47 37 30.00000
PRODUCTION_DATE: 2000 6 1
RASTER_ORDER: LEFT_RIGHT/TOP_BOTTOM
BAND_ORGANIZATION: SINGLE FILE
BAND_CONTENT: BLACK&WHITE
BAND_CONTENT: UNDEFINED
BAND_CONTENT: UNDEFINED
BITS_PER_PIXEL: 8
SAMPLES_AND_LINES: 5450 7619
HORIZONTAL_DATUM: NAD83
HORIZONTAL_COORDINATE_SYSTEM: UTM
COORDINATE_ZONE: 12
HORIZONTAL_UNITS: METERS
HORIZONTAL_RESOLUTION: 1.00000
SECONDARY_HORIZONTAL_DATUM: NAD27
XY_ORIGIN: 579377.00000 5282482.00000
SECONDARY_XY_ORIGIN: 579435.78000 5282266.29300
NATION: US
NATION: "SCIENCE
STATE: MT
NW_QUAD_CORNER_XY: 579734.76500 5282114.83200
NE_QUAD_CORNER_XY: 584424.99100 5282181.04900
SE_QUAD_CORNERY_XY: 584525.80900 5275234.97400
SW_QUAD_CORNER_XY: 579829.98100 5275168.74300
SECONDARY_NW_QUAD_XY: 579737.25800 5281896.05300
SECONDARY_NE_QUAD_XY: 584427.63100 5281962.27200
SECONDARY_SE_QUAD_XY: 584528.44900 5275016.21700
SECONDARY_SW_QUAD_XY: 579832.47400 5274949.98400
RMSE_XY: 1.30000
IMAGE_SOURCE: BLACK AND WHITE FILM
SOURCE_IMAGE_ID: NAPP 9128 267
SOURCE_IMAGE_DATE: 1996 07 29
SOURCE_IMAGE_ID: NAPP 9128 266
SOURCE_IMAGE_DATE: 1996 07 29
SOURCE_IMAGE_ID: NAPP 9128 177
SOURCE_IMAGE_DATE: 1996 07 29
SOURCE_DEM_DATE: 1987 00 00
AGENCY: WESTERN MAPPING CENTER (WMC)
PRODUCER: UNDEFINED
PRODUCTION_SYSTEM: GIS/MAGIC
COMPRESSION: UNDEFINED
STANDARD_VERSION: 1996 12
METADATA_DATE: 2000 06 15
DATA_FILE_SIZE: 41529000
BYTE_COUNT: 5450
