FILENAME: O4710917.NWS.1081062.tif
QUADRANGLE_NAME: LAST CHANCE BENCH
QUADRANT: NW
WEST_LONGITUDE: -110 0 0.00000
EAST_LONGITUDE: -109 56 15.00000
NORTH_LATITUDE: 47 45 0.00000
SOUTH_LATITUDE: 47 41 15.00000
PRODUCTION_DATE: 2000 6 1
RASTER_ORDER: LEFT_RIGHT/TOP_BOTTOM
BAND_ORGANIZATION: SINGLE FILE
BAND_CONTENT: BLACK&WHITE
BAND_CONTENT: UNDEFINED
BAND_CONTENT: UNDEFINED
BITS_PER_PIXEL: 8
SAMPLES_AND_LINES: 5439 7614
HORIZONTAL_DATUM: NAD83
HORIZONTAL_COORDINATE_SYSTEM: UTM
COORDINATE_ZONE: 12
HORIZONTAL_UNITS: METERS
HORIZONTAL_RESOLUTION: 1.00000
SECONDARY_HORIZONTAL_DATUM: NAD27
XY_ORIGIN: 574597.00000 5289361.00000
SECONDARY_XY_ORIGIN: 574655.66000 5289145.22700
NATION: US
NATION: "SCIENCE
STATE: MT
NW_QUAD_CORNER_XY: 574954.82600 5288998.57400
NE_QUAD_CORNER_XY: 579639.45400 5289060.99300
SE_QUAD_CORNERY_XY: 579734.76500 5282114.83200
SW_QUAD_CORNER_XY: 575044.53000 5282052.39900
SECONDARY_NW_QUAD_XY: 574957.17300 5288779.77400
SECONDARY_NE_QUAD_XY: 579641.94700 5288842.19600
SECONDARY_SE_QUAD_XY: 579737.25800 5281896.05300
SECONDARY_SW_QUAD_XY: 575046.87700 5281833.61800
RMSE_XY: 1.50000
IMAGE_SOURCE: BLACK AND WHITE FILM
SOURCE_IMAGE_ID: NAPP 9160 021
SOURCE_IMAGE_DATE: 1997 09 23
SOURCE_IMAGE_ID: NAPP 9160 020
SOURCE_IMAGE_DATE: 1997 09 23
SOURCE_IMAGE_ID: NAPP 9128 264
SOURCE_IMAGE_DATE: 1996 07 29
SOURCE_DEM_DATE: 1987 00 00
AGENCY: WESTERN MAPPING CENTER (WMC)
PRODUCER: UNDEFINED
PRODUCTION_SYSTEM: GIS/MAGIC
COMPRESSION: UNDEFINED
STANDARD_VERSION: 1996 12
METADATA_DATE: 2000 06 15
DATA_FILE_SIZE: 41417985
BYTE_COUNT: 5439
