FILENAME: O4710918.SWS.1081076.tif
QUADRANGLE_NAME: STARVE OUT FLAT
QUADRANT: SW
WEST_LONGITUDE: -109 52 30.00000
EAST_LONGITUDE: -109 48 45.00000
NORTH_LATITUDE: 47 41 15.00000
SOUTH_LATITUDE: 47 37 30.00000
PRODUCTION_DATE: 2000 6 1
RASTER_ORDER: LEFT_RIGHT/TOP_BOTTOM
BAND_ORGANIZATION: SINGLE FILE
BAND_CONTENT: BLACK&WHITE
BAND_CONTENT: UNDEFINED
BAND_CONTENT: UNDEFINED
BITS_PER_PIXEL: 8
SAMPLES_AND_LINES: 5456 7623
HORIZONTAL_DATUM: NAD83
HORIZONTAL_COORDINATE_SYSTEM: UTM
COORDINATE_ZONE: 12
HORIZONTAL_UNITS: METERS
HORIZONTAL_RESOLUTION: 1.00000
SECONDARY_HORIZONTAL_DATUM: NAD27
XY_ORIGIN: 584067.00000 5282552.00000
SECONDARY_XY_ORIGIN: 584125.82400 5282336.27200
NATION: US
NATION: "SCIENCE
STATE: MT
NW_QUAD_CORNER_XY: 584424.99100 5282181.04900
NE_QUAD_CORNER_XY: 589115.20800 5282251.05100
SE_QUAD_CORNERY_XY: 589221.62900 5275304.99000
SW_QUAD_CORNER_XY: 584525.80900 5275234.97400
SECONDARY_NW_QUAD_XY: 584427.63100 5281962.27200
SECONDARY_NE_QUAD_XY: 589117.99400 5282032.27600
SECONDARY_SE_QUAD_XY: 589224.41500 5275086.23500
SECONDARY_SW_QUAD_XY: 584528.44900 5275016.21700
RMSE_XY: 2.20000
IMAGE_SOURCE: BLACK AND WHITE FILM
SOURCE_IMAGE_ID: NAPP 9128 178
SOURCE_IMAGE_DATE: 1996 07 29
SOURCE_IMAGE_ID: NAPP 9128 177
SOURCE_IMAGE_DATE: 1996 07 29
SOURCE_IMAGE_ID: NAPP 9128 179
SOURCE_IMAGE_DATE: 1996 07 29
SOURCE_IMAGE_ID: NAPP 9128 144
SOURCE_IMAGE_DATE: 1996 07 29
SOURCE_DEM_DATE: 1987 00 00
AGENCY: WESTERN MAPPING CENTER (WMC)
PRODUCER: UNDEFINED
PRODUCTION_SYSTEM: GIS/MAGIC
COMPRESSION: UNDEFINED
STANDARD_VERSION: 1996 12
METADATA_DATE: 2000 06 15
DATA_FILE_SIZE: 41596544
BYTE_COUNT: 5456
