FILENAME: O4710918.NWS.1081074.tif
QUADRANGLE_NAME: STARVE OUT FLAT
QUADRANT: NW
WEST_LONGITUDE: -109 52 30.00000
EAST_LONGITUDE: -109 48 45.00000
NORTH_LATITUDE: 47 45 0.00000
SOUTH_LATITUDE: 47 41 15.00000
PRODUCTION_DATE: 2000 6 1
RASTER_ORDER: LEFT_RIGHT/TOP_BOTTOM
BAND_ORGANIZATION: SINGLE FILE
BAND_CONTENT: BLACK&WHITE
BAND_CONTENT: UNDEFINED
BAND_CONTENT: UNDEFINED
BITS_PER_PIXEL: 8
SAMPLES_AND_LINES: 5451 7623
HORIZONTAL_DATUM: NAD83
HORIZONTAL_COORDINATE_SYSTEM: UTM
COORDINATE_ZONE: 12
HORIZONTAL_UNITS: METERS
HORIZONTAL_RESOLUTION: 1.00000
SECONDARY_HORIZONTAL_DATUM: NAD27
XY_ORIGIN: 583966.00000 5289498.00000
SECONDARY_XY_ORIGIN: 584024.76600 5289282.18200
NATION: US
NATION: "SCIENCE
STATE: MT
NW_QUAD_CORNER_XY: 584324.07200 5289127.19700
NE_QUAD_CORNER_XY: 589008.68100 5289197.18500
SE_QUAD_CORNERY_XY: 589115.20800 5282251.05100
SW_QUAD_CORNER_XY: 584424.99100 5282181.04900
SECONDARY_NW_QUAD_XY: 584326.71200 5288908.40200
SECONDARY_NE_QUAD_XY: 589011.46700 5288978.39200
SECONDARY_SE_QUAD_XY: 589117.99400 5282032.27600
SECONDARY_SW_QUAD_XY: 584427.63100 5281962.27200
RMSE_XY: 1.40000
IMAGE_SOURCE: BLACK AND WHITE FILM
SOURCE_IMAGE_ID: NAPP 9128 180
SOURCE_IMAGE_DATE: 1996 07 29
SOURCE_IMAGE_ID: NAPP 9128 266
SOURCE_IMAGE_DATE: 1996 07 29
SOURCE_IMAGE_ID: NAPP 9128 264
SOURCE_IMAGE_DATE: 1996 07 29
SOURCE_IMAGE_ID: NAPP 9128 181
SOURCE_IMAGE_DATE: 1996 07 29
SOURCE_IMAGE_ID: NAPP 9128 140
SOURCE_IMAGE_DATE: 1996 07 29
SOURCE_DEM_DATE: 1987 00 00
AGENCY: WESTERN MAPPING CENTER (WMC)
PRODUCER: UNDEFINED
PRODUCTION_SYSTEM: GIS/MAGIC
COMPRESSION: UNDEFINED
STANDARD_VERSION: 1996 12
METADATA_DATE: 2000 06 15
DATA_FILE_SIZE: 41558424
BYTE_COUNT: 5451
