FILENAME: O4710921.SWS.1081162.tif
QUADRANGLE_NAME: GALLATIN RAPIDS
QUADRANT: SW
WEST_LONGITUDE: -109 30 0.00000
EAST_LONGITUDE: -109 26 15.00000
NORTH_LATITUDE: 47 41 15.00000
SOUTH_LATITUDE: 47 37 30.00000
PRODUCTION_DATE: 2000 6 6
RASTER_ORDER: LEFT_RIGHT/TOP_BOTTOM
BAND_ORGANIZATION: SINGLE FILE
BAND_CONTENT: BLACK&WHITE
BAND_CONTENT: UNDEFINED
BAND_CONTENT: UNDEFINED
BITS_PER_PIXEL: 8
SAMPLES_AND_LINES: 5489 7645
HORIZONTAL_DATUM: NAD83
HORIZONTAL_COORDINATE_SYSTEM: UTM
COORDINATE_ZONE: 12
HORIZONTAL_UNITS: METERS
HORIZONTAL_RESOLUTION: 1.00000
SECONDARY_HORIZONTAL_DATUM: NAD27
XY_ORIGIN: 612209.00000 5283051.00000
SECONDARY_XY_ORIGIN: 612268.00500 5282835.29700
NATION: US
NATION: "SCIENCE
STATE: MT
NW_QUAD_CORNER_XY: 612566.13500 5282657.83700
NE_QUAD_CORNER_XY: 617256.28500 5282750.55000
SE_QUAD_CORNERY_XY: 617396.32500 5275804.58900
SW_QUAD_CORNER_XY: 612700.57100 5275711.85700
SECONDARY_NW_QUAD_XY: 612569.65400 5282439.07500
SECONDARY_NE_QUAD_XY: 617259.95100 5282531.79100
SECONDARY_SE_QUAD_XY: 617399.99100 5275585.84900
SECONDARY_SW_QUAD_XY: 612704.09000 5275493.11500
RMSE_XY: 4.40000
IMAGE_SOURCE: BLACK AND WHITE FILM
SOURCE_IMAGE_ID: NAPP 9163 014
SOURCE_IMAGE_DATE: 1998 07 23
SOURCE_IMAGE_ID: NAPP 9159 112
SOURCE_IMAGE_DATE: 1997 09 22
SOURCE_IMAGE_ID: NAPP 9159 111
SOURCE_IMAGE_DATE: 1997 09 22
SOURCE_IMAGE_ID: NAPP 9159 024
SOURCE_IMAGE_DATE: 1997 09 22
SOURCE_IMAGE_ID: NAPP 9163 013
SOURCE_IMAGE_DATE: 1998 07 23
SOURCE_DEM_DATE: 1952 00 00
AGENCY: WESTERN MAPPING CENTER (WMC)
PRODUCER: UNDEFINED
PRODUCTION_SYSTEM: GIS/MAGIC
COMPRESSION: UNDEFINED
STANDARD_VERSION: 1996 12
METADATA_DATE: 2000 06 15
DATA_FILE_SIZE: 41968894
BYTE_COUNT: 5489
