FILENAME: O4710922.SWS.1081185.tif
QUADRANGLE_NAME: TAFFY RIDGE
QUADRANT: SW
WEST_LONGITUDE: -109 22 30.00000
EAST_LONGITUDE: -109 18 45.00000
NORTH_LATITUDE: 47 41 15.00000
SOUTH_LATITUDE: 47 37 30.00000
PRODUCTION_DATE: 2000 6 8
RASTER_ORDER: LEFT_RIGHT/TOP_BOTTOM
BAND_ORGANIZATION: SINGLE FILE
BAND_CONTENT: BLACK&WHITE
BAND_CONTENT: UNDEFINED
BAND_CONTENT: UNDEFINED
BITS_PER_PIXEL: 8
SAMPLES_AND_LINES: 5499 7653
HORIZONTAL_DATUM: NAD83
HORIZONTAL_COORDINATE_SYSTEM: UTM
COORDINATE_ZONE: 12
HORIZONTAL_UNITS: METERS
HORIZONTAL_RESOLUTION: 1.00000
SECONDARY_HORIZONTAL_DATUM: NAD27
XY_ORIGIN: 621590.00000 5283248.00000
SECONDARY_XY_ORIGIN: 621648.94300 5283032.35200
NATION: US
NATION: "SCIENCE
STATE: MT
NW_QUAD_CORNER_XY: 621946.42200 5282847.05000
NE_QUAD_CORNER_XY: 626636.54600 5282947.33500
SE_QUAD_CORNERY_XY: 626787.79400 5276001.41300
SW_QUAD_CORNER_XY: 622092.06600 5275901.10800
SECONDARY_NW_QUAD_XY: 621950.23500 5282628.29400
SECONDARY_NE_QUAD_XY: 626640.50600 5282728.58200
SECONDARY_SE_QUAD_XY: 626791.75400 5275782.68000
SECONDARY_SW_QUAD_XY: 622095.87900 5275682.37100
RMSE_XY: 3.00000
IMAGE_SOURCE: BLACK AND WHITE FILM
SOURCE_IMAGE_ID: NAPP 9156 065
SOURCE_IMAGE_DATE: 1997 08 29
SOURCE_IMAGE_ID: NAPP 9156 064
SOURCE_IMAGE_DATE: 1997 08 29
SOURCE_IMAGE_ID: NAPP 9156 066
SOURCE_IMAGE_DATE: 1997 08 29
SOURCE_DEM_DATE: 1987 00 00
AGENCY: WESTERN MAPPING CENTER (WMC)
PRODUCER: UNDEFINED
PRODUCTION_SYSTEM: GIS/MAGIC
COMPRESSION: UNDEFINED
STANDARD_VERSION: 1996 12
METADATA_DATE: 2000 06 15
DATA_FILE_SIZE: 42089346
BYTE_COUNT: 5499
