FILENAME: O4710922.SES.1081184.tif
QUADRANGLE_NAME: TAFFY RIDGE
QUADRANT: SE
WEST_LONGITUDE: -109 18 45.00000
EAST_LONGITUDE: -109 15 0.00000
NORTH_LATITUDE: 47 41 15.00000
SOUTH_LATITUDE: 47 37 30.00000
PRODUCTION_DATE: 2000 6 15
RASTER_ORDER: LEFT_RIGHT/TOP_BOTTOM
BAND_ORGANIZATION: SINGLE FILE
BAND_CONTENT: BLACK&WHITE
BAND_CONTENT: UNDEFINED
BAND_CONTENT: UNDEFINED
BITS_PER_PIXEL: 8
SAMPLES_AND_LINES: 5505 7656
HORIZONTAL_DATUM: NAD83
HORIZONTAL_COORDINATE_SYSTEM: UTM
COORDINATE_ZONE: 12
HORIZONTAL_UNITS: METERS
HORIZONTAL_RESOLUTION: 1.00000
SECONDARY_HORIZONTAL_DATUM: NAD27
XY_ORIGIN: 626280.00000 5283352.00000
SECONDARY_XY_ORIGIN: 626338.91300 5283136.38000
NATION: US
NATION: "SCIENCE
STATE: MT
NW_QUAD_CORNER_XY: 626636.54600 5282947.33500
NE_QUAD_CORNER_XY: 631326.65600 5283051.40700
SE_QUAD_CORNERY_XY: 631483.50900 5276105.50600
SW_QUAD_CORNER_XY: 626787.79400 5276001.41300
SECONDARY_NW_QUAD_XY: 626640.50600 5282728.58200
SECONDARY_NE_QUAD_XY: 631330.76200 5282832.65700
SECONDARY_SE_QUAD_XY: 631487.61500 5275886.77600
SECONDARY_SW_QUAD_XY: 626791.75400 5275782.68000
RMSE_XY: 2.50000
IMAGE_SOURCE: BLACK AND WHITE FILM
SOURCE_IMAGE_ID: NAPP 9156 038
SOURCE_IMAGE_DATE: 1997 08 29
SOURCE_IMAGE_ID: NAPP 9156 065
SOURCE_IMAGE_DATE: 1997 08 29
SOURCE_IMAGE_ID: NAPP 9156 039
SOURCE_IMAGE_DATE: 1997 08 29
SOURCE_IMAGE_ID: NAPP 9156 037
SOURCE_IMAGE_DATE: 1997 08 29
SOURCE_DEM_DATE: 1987 00 00
AGENCY: WESTERN MAPPING CENTER (WMC)
PRODUCER: UNDEFINED
PRODUCTION_SYSTEM: GIS/MAGIC
COMPRESSION: UNDEFINED
STANDARD_VERSION: 1996 12
METADATA_DATE: 2000 06 15
DATA_FILE_SIZE: 42151785
BYTE_COUNT: 5505
