FILENAME: O4710923.SES.1082426.tif
QUADRANGLE_NAME: WOODHAWK HILL
QUADRANT: SE
WEST_LONGITUDE: -109 11 15.00000
EAST_LONGITUDE: -109 7 30.00000
NORTH_LATITUDE: 47 41 15.00000
SOUTH_LATITUDE: 47 37 30.00000
PRODUCTION_DATE: 2000 6 12
RASTER_ORDER: LEFT_RIGHT/TOP_BOTTOM
BAND_ORGANIZATION: SINGLE FILE
BAND_CONTENT: BLACK&WHITE
BAND_CONTENT: UNDEFINED
BAND_CONTENT: UNDEFINED
BITS_PER_PIXEL: 8
SAMPLES_AND_LINES: 5515 7663
HORIZONTAL_DATUM: NAD83
HORIZONTAL_COORDINATE_SYSTEM: UTM
COORDINATE_ZONE: 12
HORIZONTAL_UNITS: METERS
HORIZONTAL_RESOLUTION: 1.00000
SECONDARY_HORIZONTAL_DATUM: NAD27
XY_ORIGIN: 635661.00000 5283571.00000
SECONDARY_XY_ORIGIN: 635719.85500 5283355.39500
NATION: US
NATION: "SCIENCE
STATE: MT
NW_QUAD_CORNER_XY: 636016.75100 5283159.26500
NE_QUAD_CORNER_XY: 640706.83200 5283270.91000
SE_QUAD_CORNERY_XY: 640874.89500 5276325.05300
SW_QUAD_CORNER_XY: 636179.20900 5276213.38600
SECONDARY_NW_QUAD_XY: 636021.00400 5282940.51900
SECONDARY_NE_QUAD_XY: 640711.23100 5283052.16800
SECONDARY_SE_QUAD_XY: 640879.29400 5276106.33000
SECONDARY_SW_QUAD_XY: 636183.46200 5275994.65900
RMSE_XY: 2.20000
IMAGE_SOURCE: BLACK AND WHITE FILM
SOURCE_IMAGE_ID: NAPP 9130 044
SOURCE_IMAGE_DATE: 1996 07 27
SOURCE_IMAGE_ID: NAPP 9145 020
SOURCE_IMAGE_DATE: 1996 08 25
SOURCE_IMAGE_ID: NAPP 9130 045
SOURCE_IMAGE_DATE: 1996 07 27
SOURCE_IMAGE_ID: NAPP 9130 043
SOURCE_IMAGE_DATE: 1996 07 27
SOURCE_DEM_DATE: 1987 00 00
AGENCY: WESTERN MAPPING CENTER (WMC)
PRODUCER: UNDEFINED
PRODUCTION_SYSTEM: GIS/MAGIC
COMPRESSION: UNDEFINED
STANDARD_VERSION: 1996 12
METADATA_DATE: 2000 06 15
DATA_FILE_SIZE: 42266960
BYTE_COUNT: 5515
