FILENAME: O4710924.NWS.1083355.tif
QUADRANGLE_NAME: REPPE BUTTE
QUADRANT: NW
WEST_LONGITUDE: -109 7 30.00000
EAST_LONGITUDE: -109 3 45.00000
NORTH_LATITUDE: 47 45 0.00000
SOUTH_LATITUDE: 47 41 15.00000
PRODUCTION_DATE: 2000 6 13
RASTER_ORDER: LEFT_RIGHT/TOP_BOTTOM
BAND_ORGANIZATION: SINGLE FILE
BAND_CONTENT: BLACK&WHITE
BAND_CONTENT: UNDEFINED
BAND_CONTENT: UNDEFINED
BITS_PER_PIXEL: 8
SAMPLES_AND_LINES: 5515 7668
HORIZONTAL_DATUM: NAD83
HORIZONTAL_COORDINATE_SYSTEM: UTM
COORDINATE_ZONE: 12
HORIZONTAL_UNITS: METERS
HORIZONTAL_RESOLUTION: 1.00000
SECONDARY_HORIZONTAL_DATUM: NAD27
XY_ORIGIN: 640183.00000 5290633.00000
SECONDARY_XY_ORIGIN: 640241.80400 5290417.29700
NATION: US
NATION: "SCIENCE
STATE: MT
NW_QUAD_CORNER_XY: 640538.60000 5290216.83500
NE_QUAD_CORNER_XY: 645223.05300 5290332.24300
SE_QUAD_CORNERY_XY: 645396.89600 5283386.34200
SW_QUAD_CORNER_XY: 640706.83200 5283270.91000
SECONDARY_NW_QUAD_XY: 640543.00000 5289998.07400
SECONDARY_NE_QUAD_XY: 645227.60000 5290113.48600
SECONDARY_SE_QUAD_XY: 645401.44300 5283167.60300
SECONDARY_SW_QUAD_XY: 640711.23100 5283052.16800
RMSE_XY: 1.30000
IMAGE_SOURCE: BLACK AND WHITE FILM
SOURCE_IMAGE_ID: NAPP 9129 202
SOURCE_IMAGE_DATE: 1996 07 27
SOURCE_IMAGE_ID: NAPP 9130 042
SOURCE_IMAGE_DATE: 1996 07 27
SOURCE_IMAGE_ID: NAPP 9129 203
SOURCE_IMAGE_DATE: 1996 07 27
SOURCE_DEM_DATE: 1988 00 00
AGENCY: WESTERN MAPPING CENTER (WMC)
PRODUCER: UNDEFINED
PRODUCTION_SYSTEM: GIS/MAGIC
COMPRESSION: UNDEFINED
STANDARD_VERSION: 1996 12
METADATA_DATE: 2000 06 15
DATA_FILE_SIZE: 42294535
BYTE_COUNT: 5515
