FILENAME: O4710926.NES.1081065.tif
QUADRANGLE_NAME: SPRING COULEE
QUADRANT: NE
WEST_LONGITUDE: -109 48 45.00000
EAST_LONGITUDE: -109 45 0.00000
NORTH_LATITUDE: 47 37 30.00000
SOUTH_LATITUDE: 47 33 45.00000
PRODUCTION_DATE: 2000 6 1
RASTER_ORDER: LEFT_RIGHT/TOP_BOTTOM
BAND_ORGANIZATION: SINGLE FILE
BAND_CONTENT: BLACK&WHITE
BAND_CONTENT: UNDEFINED
BAND_CONTENT: UNDEFINED
BITS_PER_PIXEL: 8
SAMPLES_AND_LINES: 5467 7626
HORIZONTAL_DATUM: NAD83
HORIZONTAL_COORDINATE_SYSTEM: UTM
COORDINATE_ZONE: 12
HORIZONTAL_UNITS: METERS
HORIZONTAL_RESOLUTION: 1.00000
SECONDARY_HORIZONTAL_DATUM: NAD27
XY_ORIGIN: 588864.00000 5275679.00000
SECONDARY_XY_ORIGIN: 588922.91600 5275463.34400
NATION: US
NATION: "SCIENCE
STATE: MT
NW_QUAD_CORNER_XY: 589221.62900 5275304.99000
NE_QUAD_CORNER_XY: 593917.43800 5275378.79100
SE_QUAD_CORNERY_XY: 594029.34900 5268432.81700
SW_QUAD_CORNER_XY: 589327.94200 5268359.00100
SECONDARY_NW_QUAD_XY: 589224.41500 5275086.23500
SECONDARY_NE_QUAD_XY: 593920.37100 5275160.03900
SECONDARY_SE_QUAD_XY: 594032.28100 5268214.08500
SECONDARY_SW_QUAD_XY: 589330.72800 5268140.26700
RMSE_XY: 3.00000
IMAGE_SOURCE: BLACK AND WHITE FILM
SOURCE_IMAGE_ID: NAPP 9128 145
SOURCE_IMAGE_DATE: 1996 07 29
SOURCE_IMAGE_ID: NAPP 9128 144
SOURCE_IMAGE_DATE: 1996 07 29
SOURCE_DEM_DATE: 1987 00 00
AGENCY: WESTERN MAPPING CENTER (WMC)
PRODUCER: UNDEFINED
PRODUCTION_SYSTEM: GIS/MAGIC
COMPRESSION: UNDEFINED
STANDARD_VERSION: 1996 12
METADATA_DATE: 2000 06 15
DATA_FILE_SIZE: 41696809
BYTE_COUNT: 5467
