FILENAME: O4710927.SWS.1081080.tif
QUADRANGLE_NAME: WOLF CREEK FALLS
QUADRANT: SW
WEST_LONGITUDE: -109 45 0.00000
EAST_LONGITUDE: -109 41 15.00000
NORTH_LATITUDE: 47 33 45.00000
SOUTH_LATITUDE: 47 30 0.00000
PRODUCTION_DATE: 2000 6 5
RASTER_ORDER: LEFT_RIGHT/TOP_BOTTOM
BAND_ORGANIZATION: SINGLE FILE
BAND_CONTENT: BLACK&WHITE
BAND_CONTENT: UNDEFINED
BAND_CONTENT: UNDEFINED
BITS_PER_PIXEL: 8
SAMPLES_AND_LINES: 5478 7630
HORIZONTAL_DATUM: NAD83
HORIZONTAL_COORDINATE_SYSTEM: UTM
COORDINATE_ZONE: 12
HORIZONTAL_UNITS: METERS
HORIZONTAL_RESOLUTION: 1.00000
SECONDARY_HORIZONTAL_DATUM: NAD27
XY_ORIGIN: 593672.00000 5268811.00000
SECONDARY_XY_ORIGIN: 593730.98200 5268595.41800
NATION: US
NATION: "SCIENCE
STATE: MT
NW_QUAD_CORNER_XY: 594029.34900 5268432.81700
NE_QUAD_CORNER_XY: 598730.74500 5268510.42000
SE_QUAD_CORNERY_XY: 598848.13500 5261564.53300
SW_QUAD_CORNER_XY: 594141.14600 5261486.91600
SECONDARY_NW_QUAD_XY: 594032.28100 5268214.08500
SECONDARY_NE_QUAD_XY: 598733.82400 5268291.69000
SECONDARY_SE_QUAD_XY: 598851.21300 5261345.82400
SECONDARY_SW_QUAD_XY: 594144.07800 5261268.20500
RMSE_XY: 3.30000
IMAGE_SOURCE: BLACK AND WHITE FILM
SOURCE_IMAGE_ID: NAPP 9160 107
SOURCE_IMAGE_DATE: 1997 09 23
SOURCE_IMAGE_ID: NAPP 9160 108
SOURCE_IMAGE_DATE: 1997 09 23
SOURCE_IMAGE_ID: NAPP 9160 106
SOURCE_IMAGE_DATE: 1997 09 23
SOURCE_DEM_DATE: 1987 00 00
AGENCY: WESTERN MAPPING CENTER (WMC)
PRODUCER: UNDEFINED
PRODUCTION_SYSTEM: GIS/MAGIC
COMPRESSION: UNDEFINED
STANDARD_VERSION: 1996 12
METADATA_DATE: 2000 06 15
DATA_FILE_SIZE: 41802618
BYTE_COUNT: 5478
