FILENAME: O4710927.NES.1081077.tif
QUADRANGLE_NAME: WOLF CREEK FALLS
QUADRANT: NE
WEST_LONGITUDE: -109 41 15.00000
EAST_LONGITUDE: -109 37 30.00000
NORTH_LATITUDE: 47 37 30.00000
SOUTH_LATITUDE: 47 33 45.00000
PRODUCTION_DATE: 2000 6 5
RASTER_ORDER: LEFT_RIGHT/TOP_BOTTOM
BAND_ORGANIZATION: SINGLE FILE
BAND_CONTENT: BLACK&WHITE
BAND_CONTENT: UNDEFINED
BAND_CONTENT: UNDEFINED
BITS_PER_PIXEL: 8
SAMPLES_AND_LINES: 5478 7633
HORIZONTAL_DATUM: NAD83
HORIZONTAL_COORDINATE_SYSTEM: UTM
COORDINATE_ZONE: 12
HORIZONTAL_UNITS: METERS
HORIZONTAL_RESOLUTION: 1.00000
SECONDARY_HORIZONTAL_DATUM: NAD27
XY_ORIGIN: 598256.00000 5275838.00000
SECONDARY_XY_ORIGIN: 598314.97800 5275622.33900
NATION: US
NATION: "SCIENCE
STATE: MT
NW_QUAD_CORNER_XY: 598613.23800 5275456.37900
NE_QUAD_CORNER_XY: 603309.02700 5275537.75200
SE_QUAD_CORNERY_XY: 603432.13200 5268591.80900
SW_QUAD_CORNER_XY: 598730.74500 5268510.42000
SECONDARY_NW_QUAD_XY: 598616.31700 5275237.62800
SECONDARY_NE_QUAD_XY: 603312.25300 5275319.00400
SECONDARY_SE_QUAD_XY: 603435.35700 5268373.08100
SECONDARY_SW_QUAD_XY: 598733.82400 5268291.69000
RMSE_XY: 2.50000
IMAGE_SOURCE: BLACK AND WHITE FILM
SOURCE_IMAGE_ID: NAPP 9159 230
SOURCE_IMAGE_DATE: 1997 09 22
SOURCE_IMAGE_ID: NAPP 9160 105
SOURCE_IMAGE_DATE: 1997 09 23
SOURCE_IMAGE_ID: NAPP 9160 104
SOURCE_IMAGE_DATE: 1997 09 23
SOURCE_IMAGE_ID: NAPP 9159 231
SOURCE_IMAGE_DATE: 1997 09 22
SOURCE_IMAGE_ID: NAPP 9159 229
SOURCE_IMAGE_DATE: 1997 09 22
SOURCE_DEM_DATE: 1987 00 00
AGENCY: WESTERN MAPPING CENTER (WMC)
PRODUCER: UNDEFINED
PRODUCTION_SYSTEM: GIS/MAGIC
COMPRESSION: UNDEFINED
STANDARD_VERSION: 1996 12
METADATA_DATE: 2000 06 15
DATA_FILE_SIZE: 41819052
BYTE_COUNT: 5478
