FILENAME: O4710930.SWS.1081170.tif
QUADRANGLE_NAME: WINIFRED EAST
QUADRANT: SW
WEST_LONGITUDE: -109 22 30.00000
EAST_LONGITUDE: -109 18 45.00000
NORTH_LATITUDE: 47 33 45.00000
SOUTH_LATITUDE: 47 30 0.00000
PRODUCTION_DATE: 2000 6 8
RASTER_ORDER: LEFT_RIGHT/TOP_BOTTOM
BAND_ORGANIZATION: SINGLE FILE
BAND_CONTENT: BLACK&WHITE
BAND_CONTENT: UNDEFINED
BAND_CONTENT: UNDEFINED
BITS_PER_PIXEL: 8
SAMPLES_AND_LINES: 5510 7652
HORIZONTAL_DATUM: NAD83
HORIZONTAL_COORDINATE_SYSTEM: UTM
COORDINATE_ZONE: 12
HORIZONTAL_UNITS: METERS
HORIZONTAL_RESOLUTION: 1.00000
SECONDARY_HORIZONTAL_DATUM: NAD27
XY_ORIGIN: 621881.00000 5269356.00000
SECONDARY_XY_ORIGIN: 621940.08300 5269140.51900
NATION: US
NATION: "SCIENCE
STATE: MT
NW_QUAD_CORNER_XY: 622237.56400 5268955.23500
NE_QUAD_CORNER_XY: 626938.89100 5269055.56100
SE_QUAD_CORNERY_XY: 627089.83500 5262109.77800
SW_QUAD_CORNER_XY: 622382.91500 5262009.43300
SECONDARY_NW_QUAD_XY: 622241.37600 5268736.51900
SECONDARY_NE_QUAD_XY: 626942.84900 5268836.84800
SECONDARY_SE_QUAD_XY: 627093.79300 5261891.08600
SECONDARY_SW_QUAD_XY: 622386.72600 5261790.73800
RMSE_XY: 1.60000
IMAGE_SOURCE: BLACK AND WHITE FILM
SOURCE_IMAGE_ID: NAPP 9156 061
SOURCE_IMAGE_DATE: 1997 08 29
SOURCE_IMAGE_ID: NAPP 9163 009
SOURCE_IMAGE_DATE: 1998 07 23
SOURCE_IMAGE_ID: NAPP 9156 060
SOURCE_IMAGE_DATE: 1997 08 29
SOURCE_IMAGE_ID: NAPP 9156 062
SOURCE_IMAGE_DATE: 1997 08 29
SOURCE_DEM_DATE: 1978 00 00
AGENCY: WESTERN MAPPING CENTER (WMC)
PRODUCER: UNDEFINED
PRODUCTION_SYSTEM: GIS/MAGIC
COMPRESSION: UNDEFINED
STANDARD_VERSION: 1996 12
METADATA_DATE: 2000 06 15
DATA_FILE_SIZE: 42168030
BYTE_COUNT: 5510
