FILENAME: O4710930.NES.1081164.tif
QUADRANGLE_NAME: WINIFRED EAST
QUADRANT: NE
WEST_LONGITUDE: -109 18 45.00000
EAST_LONGITUDE: -109 15 0.00000
NORTH_LATITUDE: 47 37 30.00000
SOUTH_LATITUDE: 47 33 45.00000
PRODUCTION_DATE: 2000 6 15
RASTER_ORDER: LEFT_RIGHT/TOP_BOTTOM
BAND_ORGANIZATION: SINGLE FILE
BAND_CONTENT: BLACK&WHITE
BAND_CONTENT: UNDEFINED
BAND_CONTENT: UNDEFINED
BITS_PER_PIXEL: 8
SAMPLES_AND_LINES: 5511 7656
HORIZONTAL_DATUM: NAD83
HORIZONTAL_COORDINATE_SYSTEM: UTM
COORDINATE_ZONE: 12
HORIZONTAL_UNITS: METERS
HORIZONTAL_RESOLUTION: 1.00000
SECONDARY_HORIZONTAL_DATUM: NAD27
XY_ORIGIN: 626431.00000 5276406.00000
SECONDARY_XY_ORIGIN: 626489.97600 5276190.45900
NATION: US
NATION: "SCIENCE
STATE: MT
NW_QUAD_CORNER_XY: 626787.79400 5276001.41300
NE_QUAD_CORNER_XY: 631483.50900 5276105.50600
SE_QUAD_CORNERY_XY: 631640.20400 5269159.67400
SW_QUAD_CORNER_XY: 626938.89100 5269055.56100
SECONDARY_NW_QUAD_XY: 626791.75400 5275782.68000
SECONDARY_NE_QUAD_XY: 631487.61500 5275886.77600
SECONDARY_SE_QUAD_XY: 631644.31000 5268940.96400
SECONDARY_SW_QUAD_XY: 626942.84900 5268836.84800
RMSE_XY: 1.10000
IMAGE_SOURCE: BLACK AND WHITE FILM
SOURCE_IMAGE_ID: NAPP 9156 040
SOURCE_IMAGE_DATE: 1997 08 29
SOURCE_IMAGE_ID: NAPP 9156 041
SOURCE_IMAGE_DATE: 1997 08 29
SOURCE_IMAGE_ID: NAPP 9156 039
SOURCE_IMAGE_DATE: 1997 08 29
SOURCE_IMAGE_ID: NAPP 9156 017
SOURCE_IMAGE_DATE: 1997 08 29
SOURCE_IMAGE_ID: NAPP 9156 018
SOURCE_IMAGE_DATE: 1997 08 29
SOURCE_DEM_DATE: 1978 00 00
AGENCY: WESTERN MAPPING CENTER (WMC)
PRODUCER: UNDEFINED
PRODUCTION_SYSTEM: GIS/MAGIC
COMPRESSION: UNDEFINED
STANDARD_VERSION: 1996 12
METADATA_DATE: 2000 06 15
DATA_FILE_SIZE: 42197727
BYTE_COUNT: 5511
