FILENAME: O4710931.SWS.1081189.tif
QUADRANGLE_NAME: GERHARD CORNER
QUADRANT: SW
WEST_LONGITUDE: -109 15 0.00000
EAST_LONGITUDE: -109 11 15.00000
NORTH_LATITUDE: 47 33 45.00000
SOUTH_LATITUDE: 47 30 0.00000
PRODUCTION_DATE: 2000 6 12
RASTER_ORDER: LEFT_RIGHT/TOP_BOTTOM
BAND_ORGANIZATION: SINGLE FILE
BAND_CONTENT: BLACK&WHITE
BAND_CONTENT: UNDEFINED
BAND_CONTENT: UNDEFINED
BITS_PER_PIXEL: 8
SAMPLES_AND_LINES: 5521 7660
HORIZONTAL_DATUM: NAD83
HORIZONTAL_COORDINATE_SYSTEM: UTM
COORDINATE_ZONE: 12
HORIZONTAL_UNITS: METERS
HORIZONTAL_RESOLUTION: 1.00000
SECONDARY_HORIZONTAL_DATUM: NAD27
XY_ORIGIN: 631284.00000 5269568.00000
SECONDARY_XY_ORIGIN: 631343.00000 5269352.55800
NATION: US
NATION: "SCIENCE
STATE: MT
NW_QUAD_CORNER_XY: 631640.20400 5269159.67400
NE_QUAD_CORNER_XY: 636341.50400 5269267.57400
SE_QUAD_CORNERY_XY: 636503.63600 5262321.83200
SW_QUAD_CORNER_XY: 631796.74200 5262213.91000
SECONDARY_NW_QUAD_XY: 631644.31000 5268940.96400
SECONDARY_NE_QUAD_XY: 636345.75600 5269048.86800
SECONDARY_SE_QUAD_XY: 636507.88700 5262103.14700
SECONDARY_SW_QUAD_XY: 631800.84700 5261995.22200
RMSE_XY: 0.90000
IMAGE_SOURCE: BLACK AND WHITE FILM
SOURCE_IMAGE_ID: NAPP 9156 015
SOURCE_IMAGE_DATE: 1997 08 29
SOURCE_IMAGE_ID: NAPP 9156 014
SOURCE_IMAGE_DATE: 1997 08 29
SOURCE_IMAGE_ID: NAPP 9156 016
SOURCE_IMAGE_DATE: 1997 08 29
SOURCE_DEM_DATE: 1978 00 00
AGENCY: WESTERN MAPPING CENTER (WMC)
PRODUCER: UNDEFINED
PRODUCTION_SYSTEM: GIS/MAGIC
COMPRESSION: UNDEFINED
STANDARD_VERSION: 1996 12
METADATA_DATE: 2000 06 15
DATA_FILE_SIZE: 42296381
BYTE_COUNT: 5521
