FILENAME: O4710931.NES.1081186.tif
QUADRANGLE_NAME: GERHARD CORNER
QUADRANT: NE
WEST_LONGITUDE: -109 11 15.00000
EAST_LONGITUDE: -109 7 30.00000
NORTH_LATITUDE: 47 37 30.00000
SOUTH_LATITUDE: 47 33 45.00000
PRODUCTION_DATE: 2000 6 12
RASTER_ORDER: LEFT_RIGHT/TOP_BOTTOM
BAND_ORGANIZATION: SINGLE FILE
BAND_CONTENT: BLACK&WHITE
BAND_CONTENT: UNDEFINED
BAND_CONTENT: UNDEFINED
BITS_PER_PIXEL: 8
SAMPLES_AND_LINES: 5521 7664
HORIZONTAL_DATUM: NAD83
HORIZONTAL_COORDINATE_SYSTEM: UTM
COORDINATE_ZONE: 12
HORIZONTAL_UNITS: METERS
HORIZONTAL_RESOLUTION: 1.00000
SECONDARY_HORIZONTAL_DATUM: NAD27
XY_ORIGIN: 635823.00000 5276626.00000
SECONDARY_XY_ORIGIN: 635881.89500 5276410.47600
NATION: US
NATION: "SCIENCE
STATE: MT
NW_QUAD_CORNER_XY: 636179.20900 5276213.38600
NE_QUAD_CORNER_XY: 640874.89500 5276325.05300
SE_QUAD_CORNERY_XY: 641042.79000 5269379.26400
SW_QUAD_CORNER_XY: 636341.50400 5269267.57400
SECONDARY_NW_QUAD_XY: 636183.46200 5275994.65900
SECONDARY_NE_QUAD_XY: 640879.29400 5276106.33000
SECONDARY_SE_QUAD_XY: 641047.18800 5269160.56100
SECONDARY_SW_QUAD_XY: 636345.75600 5269048.86800
RMSE_XY: 1.30000
IMAGE_SOURCE: BLACK AND WHITE FILM
SOURCE_IMAGE_ID: NAPP 9130 046
SOURCE_IMAGE_DATE: 1996 07 27
SOURCE_IMAGE_ID: NAPP 9130 047
SOURCE_IMAGE_DATE: 1996 07 27
SOURCE_IMAGE_ID: NAPP 9130 045
SOURCE_IMAGE_DATE: 1996 07 27
SOURCE_DEM_DATE: 1978 00 00
AGENCY: WESTERN MAPPING CENTER (WMC)
PRODUCER: UNDEFINED
PRODUCTION_SYSTEM: GIS/MAGIC
COMPRESSION: UNDEFINED
STANDARD_VERSION: 1996 12
METADATA_DATE: 2000 06 15
DATA_FILE_SIZE: 42318465
BYTE_COUNT: 5521
