FILENAME: O4710933.SES.1078965.tif
QUADRANGLE_NAME: POSSUM RUN CREEK
QUADRANT: SE
WEST_LONGITUDE: -109 56 15.00000
EAST_LONGITUDE: -109 52 30.00000
NORTH_LATITUDE: 47 26 15.00000
SOUTH_LATITUDE: 47 22 30.00000
PRODUCTION_DATE: 2000 6 4
RASTER_ORDER: LEFT_RIGHT/TOP_BOTTOM
BAND_ORGANIZATION: SINGLE FILE
BAND_CONTENT: BLACK&WHITE
BAND_CONTENT: UNDEFINED
BAND_CONTENT: UNDEFINED
BITS_PER_PIXEL: 8
SAMPLES_AND_LINES: 5473 7619
HORIZONTAL_DATUM: NAD83
HORIZONTAL_COORDINATE_SYSTEM: UTM
COORDINATE_ZONE: 12
HORIZONTAL_UNITS: METERS
HORIZONTAL_RESOLUTION: 1.00000
SECONDARY_HORIZONTAL_DATUM: NAD27
XY_ORIGIN: 579757.00000 5254698.00000
SECONDARY_XY_ORIGIN: 579816.06800 5254482.75400
NATION: US
NATION: "SCIENCE
STATE: MT
NW_QUAD_CORNER_XY: 580115.05400 5254330.91900
NE_QUAD_CORNER_XY: 584827.65500 5254397.18700
SE_QUAD_CORNERY_XY: 584928.06700 5247451.40400
SW_QUAD_CORNER_XY: 580209.88700 5247385.12400
SECONDARY_NW_QUAD_XY: 580117.54600 5254112.22300
SECONDARY_NE_QUAD_XY: 584830.29400 5254178.49400
SECONDARY_SE_QUAD_XY: 584930.70500 5247232.73400
SECONDARY_SW_QUAD_XY: 580212.37800 5247166.45200
RMSE_XY: 1.60000
IMAGE_SOURCE: BLACK AND WHITE FILM
SOURCE_IMAGE_ID: NAPP 9159 265
SOURCE_IMAGE_DATE: 1997 09 22
SOURCE_IMAGE_ID: NAPP 9160 012
SOURCE_IMAGE_DATE: 1997 09 23
SOURCE_IMAGE_ID: NAPP 9159 266
SOURCE_IMAGE_DATE: 1997 09 22
SOURCE_IMAGE_ID: NAPP 9159 264
SOURCE_IMAGE_DATE: 1997 09 22
SOURCE_DEM_DATE: 1971 00 00
AGENCY: WESTERN MAPPING CENTER (WMC)
PRODUCER: UNDEFINED
PRODUCTION_SYSTEM: GIS/MAGIC
COMPRESSION: UNDEFINED
STANDARD_VERSION: 1996 12
METADATA_DATE: 2000 06 07
DATA_FILE_SIZE: 41704260
BYTE_COUNT: 5473
