BEGIN_USGS_DOQ_HEADER *
QUADRANGLE_NAME "SODA SPRING COULEE" 3.75 or 7.5-min. name*
QUADRANT SW quadrant indicator if cell size = 3.75-minutes*
WEST_LONGITUDE -109 52 30.000 signed deg min sec SDDD MM SS.SSS*
EAST_LONGITUDE -109 48 45.000 signed deg min sec SDDD MM SS.SSS*
NORTH_LATITUDE 47 26 15.000 signed deg min sec SDDD MM SS.SSS*
SOUTH_LATITUDE 47 22 30.000 signed deg min sec SDDD MM SS.SSS*
PRODUCTION_DATE 2002 12 18 yyyy mm dd*
RASTER_ORDER LEFT_RIGHT/TOP_BOTTOM video display order*
BAND_ORGANIZATION "SINGLE FILE" single file or BSQ, or BIL or BIP*
BAND_CONTENT BLACK&WHITE black&white or red green blue*
BITS_PER_PIXEL 8 radiometric resolution*
SAMPLES_AND_LINES 5478 7622 number of columns and rows*
HORIZONTAL_DATUM NAD83 primary horizontal datum*
HORIZONTAL_COORDINATE_SYSTEM UTM *
COORDINATE_ZONE 12 coordinate system zone number*
HORIZONTAL_UNITS METERS coordinate system units*
HORIZONTAL_RESOLUTION 1.00 pixel horiz. ground sample distance*
SECONDARY_HORIZONTAL_DATUM NAD27 secondary horizontal datum*
XY_ORIGIN 584470.000 5254768.000 coord. of upper left pixel pri. datum*
SECONDARY_XY_ORIGIN 584529.000 5254553.000 coord upper left pixel sec datum*
NATION US nation code*
STATE MT state fip code*
NW_QUAD_CORNER_XY 584827.655 5254397.188 XY coords. of pri. NW quad corner*
NE_QUAD_CORNER_XY 589540.248 5254467.244 XY coords. of pri. NE quad corner*
SE_QUAD_CORNER_XY 589646.240 5247521.474 XY coords. of pri. SE quad corner*
SW_QUAD_CORNER_XY 584928.067 5247451.405 XY coords. of pri. SW quad corner*
SECONDARY_NW_QUAD_XY 584830.294 5254178.494 XY coords. - sec. NW quad cor.*
SECONDARY_NE_QUAD_XY 589543.033 5254248.552 XY coords. - sec. NE quad cor.*
SECONDARY_SE_QUAD_XY 589649.024 5247302.805 XY coords. - sec. SE quad cor.*
SECONDARY_SW_QUAD_XY 584930.705 5247232.734 XY coords. - sec. SW quad cor.*
RMSE_XY 0.90 doq horiz. accuracy*
IMAGE_SOURCE "BLACK AND WHITE FILM" b&w, cir, natural color, other*
SOURCE_IMAGE_ID "NAPP 9128 170" source image id*
SOURCE_IMAGE_DATE 1996 7 29 source image date as yyyy mm dd*
SOURCE_DEM_DATE 1971 00 00 source dem date yyyy mm dd*
AGENCY "ROCKY MOUNTAIN MAPPING CENTER (RMMC)" oversight agency*
PRODUCER "ROCKY MOUNTAIN MAPPING CENTER (RMMC)" *
PRODUCTION_SYSTEM "DV2.6.4 1/00 OV2.6 6/00" production system*
STANDARD_VERSION 1996 12 version of DOQ standard*
METADATA_DATE 2002 12 18 date created or changed, yyyy mm dd*
DATA_FILE_SIZE 41758794 data set size in bytes*
BYTE_COUNT 5478 header byte count*
