FILENAME: O4710803.NES.1080699.tif
QUADRANGLE_NAME: HAYS
QUADRANT: NE
WEST_LONGITUDE: -108 41 15.00000
EAST_LONGITUDE: -108 37 30.00000
NORTH_LATITUDE: 48 0 0.00000
SOUTH_LATITUDE: 47 56 15.00000
PRODUCTION_DATE: 2000 6 7
RASTER_ORDER: LEFT_RIGHT/TOP_BOTTOM
BAND_ORGANIZATION: SINGLE FILE
BAND_CONTENT: BLACK&WHITE
BAND_CONTENT: UNDEFINED
BAND_CONTENT: UNDEFINED
BITS_PER_PIXEL: 8
SAMPLES_AND_LINES: 5532 7693
HORIZONTAL_DATUM: NAD83
HORIZONTAL_COORDINATE_SYSTEM: UTM
COORDINATE_ZONE: 12
HORIZONTAL_UNITS: METERS
HORIZONTAL_RESOLUTION: 1.00000
SECONDARY_HORIZONTAL_DATUM: NAD27
XY_ORIGIN: 672143.00000 5319330.00000
SECONDARY_XY_ORIGIN: 672201.51900 5319113.58200
NATION: US
NATION: "SCIENCE
STATE: MT
NW_QUAD_CORNER_XY: 672497.25700 5318887.82400
NE_QUAD_CORNER_XY: 677159.07200 5319029.61900
SE_QUAD_CORNERY_XY: 677373.05700 5312083.65300
SW_QUAD_CORNER_XY: 672705.60600 5311941.82600
SECONDARY_NW_QUAD_XY: 672502.68600 5318669.02500
SECONDARY_NE_QUAD_XY: 677164.64800 5318810.82400
SECONDARY_SE_QUAD_XY: 677378.63200 5311864.87400
SECONDARY_SW_QUAD_XY: 672711.03400 5311723.04200
RMSE_XY: 1.70000
IMAGE_SOURCE: BLACK AND WHITE FILM
SOURCE_IMAGE_ID: NAPP 9144 185
SOURCE_IMAGE_DATE: 1996 08 25
SOURCE_IMAGE_ID: NAPP 9144 184
SOURCE_IMAGE_DATE: 1996 08 25
SOURCE_IMAGE_ID: NAPP 9144 186
SOURCE_IMAGE_DATE: 1996 08 25
SOURCE_DEM_DATE: 1970 00 00
AGENCY: WESTERN MAPPING CENTER (WMC)
PRODUCER: UNDEFINED
PRODUCTION_SYSTEM: GIS/MAGIC
COMPRESSION: UNDEFINED
STANDARD_VERSION: 1996 12
METADATA_DATE: 2000 06 14
DATA_FILE_SIZE: 42563208
BYTE_COUNT: 5532
