FILENAME: O4710805.SES.1114540.tif
QUADRANGLE_NAME: BEAR MOUNTAIN
QUADRANT: SE
WEST_LONGITUDE: -108 26 15.00000
EAST_LONGITUDE: -108 22 30.00000
NORTH_LATITUDE: 47 56 15.00000
SOUTH_LATITUDE: 47 52 30.00000
PRODUCTION_DATE: 2000 11 9
RASTER_ORDER: LEFT_RIGHT/TOP_BOTTOM
BAND_ORGANIZATION: SINGLE FILE
BAND_CONTENT: BLACK&WHITE
BAND_CONTENT: UNDEFINED
BAND_CONTENT: UNDEFINED
BITS_PER_PIXEL: 8
SAMPLES_AND_LINES: 5558 7708
HORIZONTAL_DATUM: NAD83
HORIZONTAL_COORDINATE_SYSTEM: UTM
COORDINATE_ZONE: 12
HORIZONTAL_UNITS: METERS
HORIZONTAL_RESOLUTION: 1.00000
SECONDARY_HORIZONTAL_DATUM: NAD27
XY_ORIGIN: 691022.00000 5312989.00000
SECONDARY_XY_ORIGIN: 691080.11500 5312772.34300
NATION: US
NATION: "SCIENCE
STATE: MT
NW_QUAD_CORNER_XY: 691375.27900 5312531.84900
NE_QUAD_CORNER_XY: 696042.64100 5312688.82100
SE_QUAD_CORNERY_XY: 696278.94200 5305743.05200
SW_QUAD_CORNER_XY: 691605.94700 5305586.04600
SECONDARY_NW_QUAD_XY: 691381.29500 5312313.08400
SECONDARY_NE_QUAD_XY: 696048.80300 5312470.06100
SECONDARY_SE_QUAD_XY: 696285.10300 5305524.30800
SECONDARY_SW_QUAD_XY: 691611.96200 5305367.29600
RMSE_XY: 1.30000
IMAGE_SOURCE: BLACK AND WHITE FILM
SOURCE_IMAGE_ID: NAPP 9144 031
SOURCE_IMAGE_DATE: 1996 08 25
SOURCE_DEM_DATE: 1970 00 00
AGENCY: WESTERN MAPPING CENTER (WMC)
PRODUCER: UNDEFINED
PRODUCTION_SYSTEM: GIS/MAGIC
COMPRESSION: UNDEFINED
STANDARD_VERSION: 1996 12
METADATA_DATE: 2000 11 14
DATA_FILE_SIZE: 42846622
BYTE_COUNT: 5558
