FILENAME: O4710807.NES.1116413.tif
QUADRANGLE_NAME: VESETH RESERVOIR
QUADRANT: NE
WEST_LONGITUDE: -108 11 15.00000
EAST_LONGITUDE: -108 7 30.00000
NORTH_LATITUDE: 48 0 0.00000
SOUTH_LATITUDE: 47 56 15.00000
PRODUCTION_DATE: 2000 11 10
RASTER_ORDER: LEFT_RIGHT/TOP_BOTTOM
BAND_ORGANIZATION: SINGLE FILE
BAND_CONTENT: BLACK&WHITE
BAND_CONTENT: UNDEFINED
BAND_CONTENT: UNDEFINED
BITS_PER_PIXEL: 8
SAMPLES_AND_LINES: 5574 7723
HORIZONTAL_DATUM: NAD83
HORIZONTAL_COORDINATE_SYSTEM: UTM
COORDINATE_ZONE: 12
HORIZONTAL_UNITS: METERS
HORIZONTAL_RESOLUTION: 1.00000
SECONDARY_HORIZONTAL_DATUM: NAD27
XY_ORIGIN: 709439.00000 5320601.00000
SECONDARY_XY_ORIGIN: 709496.67400 5320384.40300
NATION: US
NATION: "SCIENCE
STATE: MT
NW_QUAD_CORNER_XY: 709791.12800 5320128.17700
NE_QUAD_CORNER_XY: 714452.75100 5320300.26000
SE_QUAD_CORNERY_XY: 714711.84400 5313354.58200
SW_QUAD_CORNER_XY: 710044.58100 5313182.46000
SECONDARY_NW_QUAD_XY: 709797.73100 5319909.41700
SECONDARY_NE_QUAD_XY: 714459.50000 5320081.50600
SECONDARY_SE_QUAD_XY: 714718.59300 5313135.84200
SECONDARY_SW_QUAD_XY: 710051.18300 5312963.71500
RMSE_XY: 0.70000
IMAGE_SOURCE: BLACK AND WHITE FILM
SOURCE_IMAGE_ID: NAPP 9143 101
SOURCE_IMAGE_DATE: 1996 08 24
SOURCE_DEM_DATE: 1965 00 00
AGENCY: WESTERN MAPPING CENTER (WMC)
PRODUCER: UNDEFINED
PRODUCTION_SYSTEM: GIS/MAGIC
COMPRESSION: UNDEFINED
STANDARD_VERSION: 1996 12
METADATA_DATE: 2000 11 14
DATA_FILE_SIZE: 43053576
BYTE_COUNT: 5574
