FILENAME: O4710808.SWS.1116520.tif
QUADRANGLE_NAME: HOLZHEY RESERVOIR
QUADRANT: SW
WEST_LONGITUDE: -108 7 30.00000
EAST_LONGITUDE: -108 3 45.00000
NORTH_LATITUDE: 47 56 15.00000
SOUTH_LATITUDE: 47 52 30.00000
PRODUCTION_DATE: 2000 11 13
RASTER_ORDER: LEFT_RIGHT/TOP_BOTTOM
BAND_ORGANIZATION: SINGLE FILE
BAND_CONTENT: BLACK&WHITE
BAND_CONTENT: UNDEFINED
BAND_CONTENT: UNDEFINED
BITS_PER_PIXEL: 8
SAMPLES_AND_LINES: 5586 7727
HORIZONTAL_DATUM: NAD83
HORIZONTAL_COORDINATE_SYSTEM: UTM
COORDINATE_ZONE: 12
HORIZONTAL_UNITS: METERS
HORIZONTAL_RESOLUTION: 1.00000
SECONDARY_HORIZONTAL_DATUM: NAD27
XY_ORIGIN: 714359.00000 5313831.00000
SECONDARY_XY_ORIGIN: 714416.61900 5313614.46400
NATION: US
NATION: "SCIENCE
STATE: MT
NW_QUAD_CORNER_XY: 714711.84400 5313354.58200
NE_QUAD_CORNER_XY: 719379.08100 5313530.49200
SE_QUAD_CORNERY_XY: 719643.55200 5306584.90900
SW_QUAD_CORNER_XY: 714970.68000 5306408.96000
SECONDARY_NW_QUAD_XY: 714718.59300 5313135.84200
SECONDARY_NE_QUAD_XY: 719385.97700 5313311.75800
SECONDARY_SE_QUAD_XY: 719650.44800 5306366.19100
SECONDARY_SW_QUAD_XY: 714977.42900 5306190.23600
RMSE_XY: 0.70000
IMAGE_SOURCE: BLACK AND WHITE FILM
SOURCE_IMAGE_ID: NAPP 9142 188
SOURCE_IMAGE_DATE: 1996 08 24
SOURCE_DEM_DATE: 1965 00 00
AGENCY: WESTERN MAPPING CENTER (WMC)
PRODUCER: UNDEFINED
PRODUCTION_SYSTEM: GIS/MAGIC
COMPRESSION: UNDEFINED
STANDARD_VERSION: 1996 12
METADATA_DATE: 2000 11 14
DATA_FILE_SIZE: 43168608
BYTE_COUNT: 5586
