FILENAME: O4710808.NES.1116517.tif
QUADRANGLE_NAME: HOLZHEY RESERVOIR
QUADRANT: NE
WEST_LONGITUDE: -108 3 45.00000
EAST_LONGITUDE: -108 0 0.00000
NORTH_LATITUDE: 48 0 0.00000
SOUTH_LATITUDE: 47 56 15.00000
PRODUCTION_DATE: 2000 11 10
RASTER_ORDER: LEFT_RIGHT/TOP_BOTTOM
BAND_ORGANIZATION: SINGLE FILE
BAND_CONTENT: BLACK&WHITE
BAND_CONTENT: UNDEFINED
BAND_CONTENT: UNDEFINED
BITS_PER_PIXEL: 8
SAMPLES_AND_LINES: 5586 7730
HORIZONTAL_DATUM: NAD83
HORIZONTAL_COORDINATE_SYSTEM: UTM
COORDINATE_ZONE: 12
HORIZONTAL_UNITS: METERS
HORIZONTAL_RESOLUTION: 1.00000
SECONDARY_HORIZONTAL_DATUM: NAD27
XY_ORIGIN: 718762.00000 5320956.00000
SECONDARY_XY_ORIGIN: 718819.62800 5320739.52800
NATION: US
NATION: "SCIENCE
STATE: MT
NW_QUAD_CORNER_XY: 719114.34700 5320476.13100
NE_QUAD_CORNER_XY: 723775.91500 5320655.78900
SE_QUAD_CORNERY_XY: 724046.29100 5313710.19100
SW_QUAD_CORNER_XY: 719379.08100 5313530.49200
SECONDARY_NW_QUAD_XY: 719121.24300 5320257.38200
SECONDARY_NE_QUAD_XY: 723782.95900 5320437.04500
SECONDARY_SE_QUAD_XY: 724053.33400 5313491.46200
SECONDARY_SW_QUAD_XY: 719385.97700 5313311.75800
RMSE_XY: 1.10000
IMAGE_SOURCE: BLACK AND WHITE FILM
SOURCE_IMAGE_ID: NAPP 9142 117
SOURCE_IMAGE_DATE: 1996 08 24
SOURCE_DEM_DATE: 1965 00 00
AGENCY: WESTERN MAPPING CENTER (WMC)
PRODUCER: UNDEFINED
PRODUCTION_SYSTEM: GIS/MAGIC
COMPRESSION: UNDEFINED
STANDARD_VERSION: 1996 12
METADATA_DATE: 2000 11 14
DATA_FILE_SIZE: 43185366
BYTE_COUNT: 5586
