FILENAME: O4710811.NWS.1080692.tif
QUADRANGLE_NAME: D Y JUNCTION
QUADRANT: NW
WEST_LONGITUDE: -108 45 0.00000
EAST_LONGITUDE: -108 41 15.00000
NORTH_LATITUDE: 47 52 30.00000
SOUTH_LATITUDE: 47 48 45.00000
PRODUCTION_DATE: 2000 6 7
RASTER_ORDER: LEFT_RIGHT/TOP_BOTTOM
BAND_ORGANIZATION: SINGLE FILE
BAND_CONTENT: BLACK&WHITE
BAND_CONTENT: UNDEFINED
BAND_CONTENT: UNDEFINED
BITS_PER_PIXEL: 8
SAMPLES_AND_LINES: 5537 7689
HORIZONTAL_DATUM: NAD83
HORIZONTAL_COORDINATE_SYSTEM: UTM
COORDINATE_ZONE: 12
HORIZONTAL_UNITS: METERS
HORIZONTAL_RESOLUTION: 1.00000
SECONDARY_HORIZONTAL_DATUM: NAD27
XY_ORIGIN: 667886.00000 5305296.00000
SECONDARY_XY_ORIGIN: 667944.70900 5305079.79300
NATION: US
NATION: "SCIENCE
STATE: MT
NW_QUAD_CORNER_XY: 668240.64500 5304857.82100
NE_QUAD_CORNER_XY: 672913.74800 5304995.89300
SE_QUAD_CORNERY_XY: 673121.68200 5298050.02300
SW_QUAD_CORNER_XY: 668442.95500 5297911.92100
SECONDARY_NW_QUAD_XY: 668245.92600 5304639.04900
SECONDARY_NE_QUAD_XY: 672919.17600 5304777.12500
SECONDARY_SE_QUAD_XY: 673127.11000 5297831.27200
SECONDARY_SW_QUAD_XY: 668448.23600 5297693.16600
RMSE_XY: 1.40000
IMAGE_SOURCE: BLACK AND WHITE FILM
SOURCE_IMAGE_ID: NAPP 9144 182
SOURCE_IMAGE_DATE: 1996 08 25
SOURCE_IMAGE_ID: NAPP 9157 149
SOURCE_IMAGE_DATE: 1997 09 05
SOURCE_IMAGE_ID: NAPP 9157 148
SOURCE_IMAGE_DATE: 1997 09 05
SOURCE_IMAGE_ID: NAPP 9144 259
SOURCE_IMAGE_DATE: 1996 08 25
SOURCE_IMAGE_ID: NAPP 9144 257
SOURCE_IMAGE_DATE: 1996 08 25
SOURCE_DEM_DATE: 1970 00 00
AGENCY: WESTERN MAPPING CENTER (WMC)
PRODUCER: UNDEFINED
PRODUCTION_SYSTEM: GIS/MAGIC
COMPRESSION: UNDEFINED
STANDARD_VERSION: 1996 12
METADATA_DATE: 2000 06 14
DATA_FILE_SIZE: 42579530
BYTE_COUNT: 5537
