FILENAME: O4710812.SES.1112812.tif
QUADRANGLE_NAME: HAYS SE
QUADRANT: SE
WEST_LONGITUDE: -108 33 45.00000
EAST_LONGITUDE: -108 30 0.00000
NORTH_LATITUDE: 47 48 45.00000
SOUTH_LATITUDE: 47 45 0.00000
PRODUCTION_DATE: 2000 11 9
RASTER_ORDER: LEFT_RIGHT/TOP_BOTTOM
BAND_ORGANIZATION: SINGLE FILE
BAND_CONTENT: BLACK&WHITE
BAND_CONTENT: UNDEFINED
BAND_CONTENT: UNDEFINED
BITS_PER_PIXEL: 8
SAMPLES_AND_LINES: 5559 7701
HORIZONTAL_DATUM: NAD83
HORIZONTAL_COORDINATE_SYSTEM: UTM
COORDINATE_ZONE: 12
HORIZONTAL_UNITS: METERS
HORIZONTAL_RESOLUTION: 1.00000
SECONDARY_HORIZONTAL_DATUM: NAD27
XY_ORIGIN: 682125.00000 5298788.00000
SECONDARY_XY_ORIGIN: 682183.41700 5298571.49100
NATION: US
NATION: "SCIENCE
STATE: MT
NW_QUAD_CORNER_XY: 682479.07600 5298337.58700
NE_QUAD_CORNER_XY: 687157.74200 5298487.05100
SE_QUAD_CORNERY_XY: 687382.33000 5291541.33700
SW_QUAD_CORNER_XY: 682698.04300 5291391.84100
SECONDARY_NW_QUAD_XY: 682484.79700 5298118.84500
SECONDARY_NE_QUAD_XY: 687163.61000 5298268.31400
SECONDARY_SE_QUAD_XY: 687388.19700 5291322.61700
SECONDARY_SW_QUAD_XY: 682703.76400 5291173.11700
RMSE_XY: 3.80000
IMAGE_SOURCE: BLACK AND WHITE FILM
SOURCE_IMAGE_ID: NAPP 9138 095
SOURCE_IMAGE_DATE: 1996 08 23
SOURCE_IMAGE_ID: NAPP 9138 177
SOURCE_IMAGE_DATE: 1996 08 23
SOURCE_IMAGE_ID: NAPP 9138 094
SOURCE_IMAGE_DATE: 1996 08 23
SOURCE_DEM_DATE: 1970 00 00
AGENCY: WESTERN MAPPING CENTER (WMC)
PRODUCER: UNDEFINED
PRODUCTION_SYSTEM: GIS/MAGIC
COMPRESSION: UNDEFINED
STANDARD_VERSION: 1996 12
METADATA_DATE: 2000 11 13
DATA_FILE_SIZE: 42815418
BYTE_COUNT: 5559
