FILENAME: O4710815.SES.1116403.tif
QUADRANGLE_NAME: DRY FORK RIDGE
QUADRANT: SE
WEST_LONGITUDE: -108 11 15.00000
EAST_LONGITUDE: -108 7 30.00000
NORTH_LATITUDE: 47 48 45.00000
SOUTH_LATITUDE: 47 45 0.00000
PRODUCTION_DATE: 2000 10 30
RASTER_ORDER: LEFT_RIGHT/TOP_BOTTOM
BAND_ORGANIZATION: SINGLE FILE
BAND_CONTENT: BLACK&WHITE
BAND_CONTENT: UNDEFINED
BAND_CONTENT: UNDEFINED
BITS_PER_PIXEL: 8
SAMPLES_AND_LINES: 5591 7723
HORIZONTAL_DATUM: NAD83
HORIZONTAL_COORDINATE_SYSTEM: UTM
COORDINATE_ZONE: 12
HORIZONTAL_UNITS: METERS
HORIZONTAL_RESOLUTION: 1.00000
SECONDARY_HORIZONTAL_DATUM: NAD27
XY_ORIGIN: 710198.00000 5299764.00000
SECONDARY_XY_ORIGIN: 710255.54200 5299547.38900
NATION: US
NATION: "SCIENCE
STATE: MT
NW_QUAD_CORNER_XY: 710550.73200 5299291.19800
NE_QUAD_CORNER_XY: 715229.25900 5299463.39500
SE_QUAD_CORNERY_XY: 715487.58000 5292517.88700
SW_QUAD_CORNER_XY: 710803.43000 5292345.65300
SECONDARY_NW_QUAD_XY: 710557.33400 5299072.48600
SECONDARY_NE_QUAD_XY: 715236.00700 5299244.68800
SECONDARY_SE_QUAD_XY: 715494.32800 5292299.19800
SECONDARY_SW_QUAD_XY: 710810.03100 5292126.95900
RMSE_XY: 1.10000
IMAGE_SOURCE: BLACK AND WHITE FILM
SOURCE_IMAGE_ID: NAPP 9143 095
SOURCE_IMAGE_DATE: 1996 08 24
SOURCE_DEM_DATE: 1965 00 00
AGENCY: WESTERN MAPPING CENTER (WMC)
PRODUCER: UNDEFINED
PRODUCTION_SYSTEM: GIS/MAGIC
COMPRESSION: UNDEFINED
STANDARD_VERSION: 1996 12
METADATA_DATE: 2000 11 14
DATA_FILE_SIZE: 43184884
BYTE_COUNT: 5591
