FILENAME: O4710816.SWS.1116508.tif
QUADRANGLE_NAME: BARBER COULEE
QUADRANT: SW
WEST_LONGITUDE: -108 7 30.00000
EAST_LONGITUDE: -108 3 45.00000
NORTH_LATITUDE: 47 48 45.00000
SOUTH_LATITUDE: 47 45 0.00000
PRODUCTION_DATE: 2000 10 30
RASTER_ORDER: LEFT_RIGHT/TOP_BOTTOM
BAND_ORGANIZATION: SINGLE FILE
BAND_CONTENT: BLACK&WHITE
BAND_CONTENT: UNDEFINED
BAND_CONTENT: UNDEFINED
BITS_PER_PIXEL: 8
SAMPLES_AND_LINES: 5596 7727
HORIZONTAL_DATUM: NAD83
HORIZONTAL_COORDINATE_SYSTEM: UTM
COORDINATE_ZONE: 12
HORIZONTAL_UNITS: METERS
HORIZONTAL_RESOLUTION: 1.00000
SECONDARY_HORIZONTAL_DATUM: NAD27
XY_ORIGIN: 714877.00000 5299940.00000
SECONDARY_XY_ORIGIN: 714934.55500 5299723.46200
NATION: US
NATION: "SCIENCE
STATE: MT
NW_QUAD_CORNER_XY: 715229.25900 5299463.39500
NE_QUAD_CORNER_XY: 719907.76100 5299639.38200
SE_QUAD_CORNERY_XY: 720171.70600 5292693.91100
SW_QUAD_CORNER_XY: 715487.58000 5292517.88700
SECONDARY_NW_QUAD_XY: 715236.00700 5299244.68800
SECONDARY_NE_QUAD_XY: 719914.65600 5299420.68100
SECONDARY_SE_QUAD_XY: 720178.60000 5292475.22800
SECONDARY_SW_QUAD_XY: 715494.32800 5292299.19800
RMSE_XY: 1.10000
IMAGE_SOURCE: BLACK AND WHITE FILM
SOURCE_IMAGE_ID: NAPP 9142 192
SOURCE_IMAGE_DATE: 1996 08 24
SOURCE_DEM_DATE: 1965 00 00
AGENCY: WESTERN MAPPING CENTER (WMC)
PRODUCER: UNDEFINED
PRODUCTION_SYSTEM: GIS/MAGIC
COMPRESSION: UNDEFINED
STANDARD_VERSION: 1996 12
METADATA_DATE: 2000 11 14
DATA_FILE_SIZE: 43245888
BYTE_COUNT: 5596
