FILENAME: O4710817.NWS.1082508.tif
QUADRANGLE_NAME: BAKER MONUMENT
QUADRANT: NW
WEST_LONGITUDE: -109 0 0.00000
EAST_LONGITUDE: -108 56 15.00000
NORTH_LATITUDE: 47 45 0.00000
SOUTH_LATITUDE: 47 41 15.00000
PRODUCTION_DATE: 2000 6 12
RASTER_ORDER: LEFT_RIGHT/TOP_BOTTOM
BAND_ORGANIZATION: SINGLE FILE
BAND_CONTENT: BLACK&WHITE
BAND_CONTENT: UNDEFINED
BAND_CONTENT: UNDEFINED
BITS_PER_PIXEL: 8
SAMPLES_AND_LINES: 5526 7675
HORIZONTAL_DATUM: NAD83
HORIZONTAL_COORDINATE_SYSTEM: UTM
COORDINATE_ZONE: 12
HORIZONTAL_UNITS: METERS
HORIZONTAL_RESOLUTION: 1.00000
SECONDARY_HORIZONTAL_DATUM: NAD27
XY_ORIGIN: 649552.00000 5290875.00000
SECONDARY_XY_ORIGIN: 649610.77600 5290659.26600
NATION: US
NATION: "SCIENCE
STATE: MT
NW_QUAD_CORNER_XY: 649907.49000 5290451.43800
NE_QUAD_CORNER_XY: 654591.91000 5290574.41900
SE_QUAD_CORNERY_XY: 654776.97700 5283628.56800
SW_QUAD_CORNER_XY: 650086.94500 5283505.56100
SECONDARY_NW_QUAD_XY: 649912.18300 5290232.68400
SECONDARY_NE_QUAD_XY: 654596.75000 5290355.66900
SECONDARY_SE_QUAD_XY: 654781.81700 5283409.83600
SECONDARY_SW_QUAD_XY: 650091.63800 5283286.82600
RMSE_XY: 1.20000
IMAGE_SOURCE: BLACK AND WHITE FILM
SOURCE_IMAGE_ID: NAPP 9147 208
SOURCE_IMAGE_DATE: 1996 08 24
SOURCE_IMAGE_ID: NAPP 9129 036
SOURCE_IMAGE_DATE: 1996 07 27
SOURCE_IMAGE_ID: NAPP 9129 035
SOURCE_IMAGE_DATE: 1996 07 27
SOURCE_IMAGE_ID: NAPP 9147 209
SOURCE_IMAGE_DATE: 1996 08 24
SOURCE_IMAGE_ID: NAPP 9147 207
SOURCE_IMAGE_DATE: 1996 08 24
SOURCE_DEM_DATE: 1954 00 00
AGENCY: WESTERN MAPPING CENTER (WMC)
PRODUCER: UNDEFINED
PRODUCTION_SYSTEM: GIS/MAGIC
COMPRESSION: UNDEFINED
STANDARD_VERSION: 1996 12
METADATA_DATE: 2000 06 15
DATA_FILE_SIZE: 42417576
BYTE_COUNT: 5526
