FILENAME: O4710818.NES.1083011.tif
QUADRANGLE_NAME: GRAND ISLAND
QUADRANT: NE
WEST_LONGITUDE: -108 48 45.00000
EAST_LONGITUDE: -108 45 0.00000
NORTH_LATITUDE: 47 45 0.00000
SOUTH_LATITUDE: 47 41 15.00000
PRODUCTION_DATE: 2000 6 8
RASTER_ORDER: LEFT_RIGHT/TOP_BOTTOM
BAND_ORGANIZATION: SINGLE FILE
BAND_CONTENT: BLACK&WHITE
BAND_CONTENT: UNDEFINED
BAND_CONTENT: UNDEFINED
BITS_PER_PIXEL: 8
SAMPLES_AND_LINES: 5542 7686
HORIZONTAL_DATUM: NAD83
HORIZONTAL_COORDINATE_SYSTEM: UTM
COORDINATE_ZONE: 12
HORIZONTAL_UNITS: METERS
HORIZONTAL_RESOLUTION: 1.00000
SECONDARY_HORIZONTAL_DATUM: NAD27
XY_ORIGIN: 663606.00000 5291267.00000
SECONDARY_XY_ORIGIN: 663664.79600 5291051.00500
NATION: US
NATION: "SCIENCE
STATE: MT
NW_QUAD_CORNER_XY: 663960.69700 5290831.74300
NE_QUAD_CORNER_XY: 668645.06300 5290966.08600
SE_QUAD_CORNERY_XY: 668846.96900 5284020.31500
SW_QUAD_CORNER_XY: 664156.98900 5283885.94400
SECONDARY_NW_QUAD_XY: 663965.83000 5290613.00100
SECONDARY_NE_QUAD_XY: 668650.34300 5290747.34800
SECONDARY_SE_QUAD_XY: 668852.24800 5283801.59500
SECONDARY_SW_QUAD_XY: 664162.12300 5283667.22100
RMSE_XY: 2.70000
IMAGE_SOURCE: BLACK AND WHITE FILM
SOURCE_IMAGE_ID: NAPP 9157 153
SOURCE_IMAGE_DATE: 1997 09 05
SOURCE_IMAGE_ID: NAPP 9157 067
SOURCE_IMAGE_DATE: 1997 09 05
SOURCE_IMAGE_ID: NAPP 9157 154
SOURCE_IMAGE_DATE: 1997 09 05
SOURCE_IMAGE_ID: NAPP 9157 152
SOURCE_IMAGE_DATE: 1997 09 05
SOURCE_DEM_DATE: 2000 01 01
AGENCY: WESTERN MAPPING CENTER (WMC)
PRODUCER: UNDEFINED
PRODUCTION_SYSTEM: GIS/MAGIC
COMPRESSION: UNDEFINED
STANDARD_VERSION: 1996 12
METADATA_DATE: 2000 06 15
DATA_FILE_SIZE: 42601354
BYTE_COUNT: 5542
