FILENAME: O4710819.NWS.1083057.tif
QUADRANGLE_NAME: BELL RIDGE WEST
QUADRANT: NW
WEST_LONGITUDE: -108 45 0.00000
EAST_LONGITUDE: -108 41 15.00000
NORTH_LATITUDE: 47 45 0.00000
SOUTH_LATITUDE: 47 41 15.00000
PRODUCTION_DATE: 2000 6 8
RASTER_ORDER: LEFT_RIGHT/TOP_BOTTOM
BAND_ORGANIZATION: SINGLE FILE
BAND_CONTENT: BLACK&WHITE
BAND_CONTENT: UNDEFINED
BAND_CONTENT: UNDEFINED
BITS_PER_PIXEL: 8
SAMPLES_AND_LINES: 5548 7690
HORIZONTAL_DATUM: NAD83
HORIZONTAL_COORDINATE_SYSTEM: UTM
COORDINATE_ZONE: 12
HORIZONTAL_UNITS: METERS
HORIZONTAL_RESOLUTION: 1.00000
SECONDARY_HORIZONTAL_DATUM: NAD27
XY_ORIGIN: 668290.00000 5291405.00000
SECONDARY_XY_ORIGIN: 668348.80700 5291188.91800
NATION: US
NATION: "SCIENCE
STATE: MT
NW_QUAD_CORNER_XY: 668645.06300 5290966.08600
NE_QUAD_CORNER_XY: 673329.40900 5291104.21600
SE_QUAD_CORNERY_XY: 673536.92900 5284158.47300
SW_QUAD_CORNER_XY: 668846.96900 5284020.31500
SECONDARY_NW_QUAD_XY: 668650.34300 5290747.34800
SECONDARY_NE_QUAD_XY: 673334.83600 5290885.48300
SECONDARY_SE_QUAD_XY: 673542.35600 5283939.75900
SECONDARY_SW_QUAD_XY: 668852.24800 5283801.59500
RMSE_XY: 2.10000
IMAGE_SOURCE: BLACK AND WHITE FILM
SOURCE_IMAGE_ID: NAPP 9144 262
SOURCE_IMAGE_DATE: 1996 08 25
SOURCE_IMAGE_ID: NAPP 9144 261
SOURCE_IMAGE_DATE: 1996 08 25
SOURCE_DEM_DATE: 1982 00 00
AGENCY: WESTERN MAPPING CENTER (WMC)
PRODUCER: UNDEFINED
PRODUCTION_SYSTEM: GIS/MAGIC
COMPRESSION: UNDEFINED
STANDARD_VERSION: 1996 12
METADATA_DATE: 2000 06 15
DATA_FILE_SIZE: 42669668
BYTE_COUNT: 5548
