FILENAME: O4710822.SES.1114576.tif
QUADRANGLE_NAME: BLIZZARD RESERVOIR
QUADRANT: SE
WEST_LONGITUDE: -108 18 45.00000
EAST_LONGITUDE: -108 15 0.00000
NORTH_LATITUDE: 47 41 15.00000
SOUTH_LATITUDE: 47 37 30.00000
PRODUCTION_DATE: 2000 11 13
RASTER_ORDER: LEFT_RIGHT/TOP_BOTTOM
BAND_ORGANIZATION: SINGLE FILE
BAND_CONTENT: BLACK&WHITE
BAND_CONTENT: UNDEFINED
BAND_CONTENT: UNDEFINED
BITS_PER_PIXEL: 8
SAMPLES_AND_LINES: 5591 7715
HORIZONTAL_DATUM: NAD83
HORIZONTAL_COORDINATE_SYSTEM: UTM
COORDINATE_ZONE: 12
HORIZONTAL_UNITS: METERS
HORIZONTAL_RESOLUTION: 1.00000
SECONDARY_HORIZONTAL_DATUM: NAD27
XY_ORIGIN: 701323.00000 5285532.00000
SECONDARY_XY_ORIGIN: 701380.68200 5285315.43900
NATION: US
NATION: "SCIENCE
STATE: MT
NW_QUAD_CORNER_XY: 701676.26900 5285067.00200
NE_QUAD_CORNER_XY: 706366.08400 5285231.68900
SE_QUAD_CORNERY_XY: 706612.66500 5278286.22600
SW_QUAD_CORNER_XY: 701917.23900 5278121.50600
SECONDARY_NW_QUAD_XY: 701682.57600 5284848.31600
SECONDARY_NE_QUAD_XY: 706372.53700 5285013.00800
SECONDARY_SE_QUAD_XY: 706619.11700 5278067.56400
SECONDARY_SW_QUAD_XY: 701923.54500 5277902.83900
RMSE_XY: 0.90000
IMAGE_SOURCE: BLACK AND WHITE FILM
SOURCE_IMAGE_ID: NAPP 9143 211
SOURCE_IMAGE_DATE: 1996 08 24
SOURCE_IMAGE_ID: NAPP 9143 210
SOURCE_IMAGE_DATE: 1996 08 24
SOURCE_DEM_DATE: 1970 00 00
AGENCY: WESTERN MAPPING CENTER (WMC)
PRODUCER: UNDEFINED
PRODUCTION_SYSTEM: GIS/MAGIC
COMPRESSION: UNDEFINED
STANDARD_VERSION: 1996 12
METADATA_DATE: 2000 11 30
DATA_FILE_SIZE: 43140156
BYTE_COUNT: 5591
