FILENAME: O4710822.NWS.1114575.tif
QUADRANGLE_NAME: BLIZZARD RESERVOIR
QUADRANT: NW
WEST_LONGITUDE: -108 22 30.00000
EAST_LONGITUDE: -108 18 45.00000
NORTH_LATITUDE: 47 45 0.00000
SOUTH_LATITUDE: 47 41 15.00000
PRODUCTION_DATE: 2000 11 9
RASTER_ORDER: LEFT_RIGHT/TOP_BOTTOM
BAND_ORGANIZATION: SINGLE FILE
BAND_CONTENT: BLACK&WHITE
BAND_CONTENT: UNDEFINED
BAND_CONTENT: UNDEFINED
BITS_PER_PIXEL: 8
SAMPLES_AND_LINES: 5580 7712
HORIZONTAL_DATUM: NAD83
HORIZONTAL_COORDINATE_SYSTEM: UTM
COORDINATE_ZONE: 12
HORIZONTAL_UNITS: METERS
HORIZONTAL_RESOLUTION: 1.00000
SECONDARY_HORIZONTAL_DATUM: NAD27
XY_ORIGIN: 696398.00000 5292313.00000
SECONDARY_XY_ORIGIN: 696455.90700 5292096.33700
NATION: US
NATION: "SCIENCE
STATE: MT
NW_QUAD_CORNER_XY: 696750.83800 5291851.69400
NE_QUAD_CORNER_XY: 701435.05800 5292012.55700
SE_QUAD_CORNERY_XY: 701676.26900 5285067.00200
SW_QUAD_CORNER_XY: 696986.43200 5284906.10600
SECONDARY_NW_QUAD_XY: 696756.99800 5291632.98500
SECONDARY_NE_QUAD_XY: 701441.36500 5291793.85300
SECONDARY_SE_QUAD_XY: 701682.57600 5284848.31600
SECONDARY_SW_QUAD_XY: 696992.59200 5284687.41400
RMSE_XY: 0.80000
IMAGE_SOURCE: BLACK AND WHITE FILM
SOURCE_IMAGE_ID: NAPP 9143 264
SOURCE_IMAGE_DATE: 1996 08 24
SOURCE_DEM_DATE: 1970 00 00
AGENCY: WESTERN MAPPING CENTER (WMC)
PRODUCER: UNDEFINED
PRODUCTION_SYSTEM: GIS/MAGIC
COMPRESSION: UNDEFINED
STANDARD_VERSION: 1996 12
METADATA_DATE: 2000 11 30
DATA_FILE_SIZE: 43038540
BYTE_COUNT: 5580
