FILENAME: O4710822.NES.1114574.tif
QUADRANGLE_NAME: BLIZZARD RESERVOIR
QUADRANT: NE
WEST_LONGITUDE: -108 18 45.00000
EAST_LONGITUDE: -108 15 0.00000
NORTH_LATITUDE: 47 45 0.00000
SOUTH_LATITUDE: 47 41 15.00000
PRODUCTION_DATE: 2000 10 30
RASTER_ORDER: LEFT_RIGHT/TOP_BOTTOM
BAND_ORGANIZATION: SINGLE FILE
BAND_CONTENT: BLACK&WHITE
BAND_CONTENT: UNDEFINED
BAND_CONTENT: UNDEFINED
BITS_PER_PIXEL: 8
SAMPLES_AND_LINES: 5586 7716
HORIZONTAL_DATUM: NAD83
HORIZONTAL_COORDINATE_SYSTEM: UTM
COORDINATE_ZONE: 12
HORIZONTAL_UNITS: METERS
HORIZONTAL_RESOLUTION: 1.00000
SECONDARY_HORIZONTAL_DATUM: NAD27
XY_ORIGIN: 701082.00000 5292478.00000
SECONDARY_XY_ORIGIN: 701139.69400 5292261.32500
NATION: US
NATION: "SCIENCE
STATE: MT
NW_QUAD_CORNER_XY: 701435.05800 5292012.55700
NE_QUAD_CORNER_XY: 706119.25600 5292177.21000
SE_QUAD_CORNERY_XY: 706366.08400 5285231.68900
SW_QUAD_CORNER_XY: 701676.26900 5285067.00200
SECONDARY_NW_QUAD_XY: 701441.36500 5291793.85300
SECONDARY_NE_QUAD_XY: 706125.71000 5291958.51100
SECONDARY_SE_QUAD_XY: 706372.53700 5285013.00800
SECONDARY_SW_QUAD_XY: 701682.57600 5284848.31600
RMSE_XY: 1.50000
IMAGE_SOURCE: BLACK AND WHITE FILM
SOURCE_IMAGE_ID: NAPP 9143 213
SOURCE_IMAGE_DATE: 1996 08 24
SOURCE_DEM_DATE: 1970 00 00
AGENCY: WESTERN MAPPING CENTER (WMC)
PRODUCER: UNDEFINED
PRODUCTION_SYSTEM: GIS/MAGIC
COMPRESSION: UNDEFINED
STANDARD_VERSION: 1996 12
METADATA_DATE: 2000 11 30
DATA_FILE_SIZE: 43107162
BYTE_COUNT: 5586
